BEGIN:VCALENDAR
VERSION:2.0
PRODID:-//ÖGO - ECPv6.15.18//NONSGML v1.0//EN
CALSCALE:GREGORIAN
METHOD:PUBLISH
X-WR-CALNAME:ÖGO
X-ORIGINAL-URL:https://www.orthopaedics.or.at
X-WR-CALDESC:Veranstaltungen für ÖGO
REFRESH-INTERVAL;VALUE=DURATION:PT1H
X-Robots-Tag:noindex
X-PUBLISHED-TTL:PT1H
BEGIN:VTIMEZONE
TZID:Europe/Vienna
BEGIN:DAYLIGHT
TZOFFSETFROM:+0100
TZOFFSETTO:+0200
TZNAME:CEST
DTSTART:20200329T010000
END:DAYLIGHT
BEGIN:STANDARD
TZOFFSETFROM:+0200
TZOFFSETTO:+0100
TZNAME:CET
DTSTART:20201025T010000
END:STANDARD
BEGIN:DAYLIGHT
TZOFFSETFROM:+0100
TZOFFSETTO:+0200
TZNAME:CEST
DTSTART:20210328T010000
END:DAYLIGHT
BEGIN:STANDARD
TZOFFSETFROM:+0200
TZOFFSETTO:+0100
TZNAME:CET
DTSTART:20211031T010000
END:STANDARD
BEGIN:DAYLIGHT
TZOFFSETFROM:+0100
TZOFFSETTO:+0200
TZNAME:CEST
DTSTART:20220327T010000
END:DAYLIGHT
BEGIN:STANDARD
TZOFFSETFROM:+0200
TZOFFSETTO:+0100
TZNAME:CET
DTSTART:20221030T010000
END:STANDARD
END:VTIMEZONE
BEGIN:VEVENT
DTSTART;TZID=Europe/Vienna:20211126T133000
DTEND;TZID=Europe/Vienna:20211126T180000
DTSTAMP:20260424T022104
CREATED:20211015T082630Z
LAST-MODIFIED:20211015T082805Z
UID:1945-1637933400-1637949600@www.orthopaedics.or.at
SUMMARY:Wintertagung "Fuß und Sport" - Österreichische Fußgesellschaft
DESCRIPTION:> Programm \n> Anmeldung \noder per Mail an office@fussgesellschaft.at
URL:https://www.orthopaedics.or.at/event/wintertagung-fuss-und-sport-oesterreichische-fussgesellschaft/
LOCATION:Tagungszentrum Schönbrunn Apothekertrakt\, Schloß Schönbrunn\, Wien\, 1130\, Österreich
ORGANIZER;CN="%C3%96sterreichische Fu%C3%9Fgesellschaft":MAILTO:office@fussgesellschaft.at
END:VEVENT
END:VCALENDAR