BEGIN:VCALENDAR
VERSION:2.0
PRODID:-//ÖGO - ECPv6.15.18//NONSGML v1.0//EN
CALSCALE:GREGORIAN
METHOD:PUBLISH
X-WR-CALNAME:ÖGO
X-ORIGINAL-URL:https://www.orthopaedics.or.at
X-WR-CALDESC:Veranstaltungen für ÖGO
REFRESH-INTERVAL;VALUE=DURATION:PT1H
X-Robots-Tag:noindex
X-PUBLISHED-TTL:PT1H
BEGIN:VTIMEZONE
TZID:Europe/Vienna
BEGIN:DAYLIGHT
TZOFFSETFROM:+0100
TZOFFSETTO:+0200
TZNAME:CEST
DTSTART:20200329T010000
END:DAYLIGHT
BEGIN:STANDARD
TZOFFSETFROM:+0200
TZOFFSETTO:+0100
TZNAME:CET
DTSTART:20201025T010000
END:STANDARD
BEGIN:DAYLIGHT
TZOFFSETFROM:+0100
TZOFFSETTO:+0200
TZNAME:CEST
DTSTART:20210328T010000
END:DAYLIGHT
BEGIN:STANDARD
TZOFFSETFROM:+0200
TZOFFSETTO:+0100
TZNAME:CET
DTSTART:20211031T010000
END:STANDARD
BEGIN:DAYLIGHT
TZOFFSETFROM:+0100
TZOFFSETTO:+0200
TZNAME:CEST
DTSTART:20220327T010000
END:DAYLIGHT
BEGIN:STANDARD
TZOFFSETFROM:+0200
TZOFFSETTO:+0100
TZNAME:CET
DTSTART:20221030T010000
END:STANDARD
END:VTIMEZONE
BEGIN:VEVENT
DTSTART;VALUE=DATE:20211209
DTEND;VALUE=DATE:20211212
DTSTAMP:20260424T003703
CREATED:20210616T092848Z
LAST-MODIFIED:20210616T093525Z
UID:1824-1639008000-1639267199@www.orthopaedics.or.at
SUMMARY:16. Deutscher Wirbelsäulenkongress
DESCRIPTION:>> Einladung / Information zur Registrierung \n>> Call for Abstracts-Einreichung: Deadline 30.06.2021 \n  \nVeranstalter: Deutsche Wirbelsäulengesellschaft (DWG) e. V. \nSprache: Deutsch \nFachgebiete: Orthopädie / Wirbelsäule / Neurochirurgie / Unfallchirurgie / orthopädische Chirurgie
URL:https://www.orthopaedics.or.at/event/16-deutscher-wirbelsaeulenkongress/
LOCATION:Messe und Congress Centrum Halle Münsterland\, Albersloher Weg 32\, Münster\, 48155
END:VEVENT
END:VCALENDAR