BEGIN:VCALENDAR
VERSION:2.0
PRODID:-//ÖGO - ECPv6.15.18//NONSGML v1.0//EN
CALSCALE:GREGORIAN
METHOD:PUBLISH
X-ORIGINAL-URL:https://www.orthopaedics.or.at
X-WR-CALDESC:Veranstaltungen für ÖGO
REFRESH-INTERVAL;VALUE=DURATION:PT1H
X-Robots-Tag:noindex
X-PUBLISHED-TTL:PT1H
BEGIN:VTIMEZONE
TZID:Europe/Vienna
BEGIN:DAYLIGHT
TZOFFSETFROM:+0100
TZOFFSETTO:+0200
TZNAME:CEST
DTSTART:20210328T010000
END:DAYLIGHT
BEGIN:STANDARD
TZOFFSETFROM:+0200
TZOFFSETTO:+0100
TZNAME:CET
DTSTART:20211031T010000
END:STANDARD
BEGIN:DAYLIGHT
TZOFFSETFROM:+0100
TZOFFSETTO:+0200
TZNAME:CEST
DTSTART:20220327T010000
END:DAYLIGHT
BEGIN:STANDARD
TZOFFSETFROM:+0200
TZOFFSETTO:+0100
TZNAME:CET
DTSTART:20221030T010000
END:STANDARD
BEGIN:DAYLIGHT
TZOFFSETFROM:+0100
TZOFFSETTO:+0200
TZNAME:CEST
DTSTART:20230326T010000
END:DAYLIGHT
BEGIN:STANDARD
TZOFFSETFROM:+0200
TZOFFSETTO:+0100
TZNAME:CET
DTSTART:20231029T010000
END:STANDARD
END:VTIMEZONE
BEGIN:VEVENT
DTSTART;VALUE=DATE:20220507
DTEND;VALUE=DATE:20220510
DTSTAMP:20260423T160452
CREATED:20210701T101202Z
LAST-MODIFIED:20220405T085848Z
UID:1844-1651881600-1652140799@www.orthopaedics.or.at
SUMMARY:Sonografie der Säuglingshüfte nach Graf – Grund- und Aufbaukurs
DESCRIPTION:> Programm \n> Anmeldung
URL:https://www.orthopaedics.or.at/event/sonografie-der-saeuglingshuefte-nach-graf-grund-und-aufbaukurs-2/
LOCATION:Orthopädisches Spital Speising\, Speisinger Straße 109\, Wien\, 1130
END:VEVENT
END:VCALENDAR