BEGIN:VCALENDAR
VERSION:2.0
PRODID:-//ÖGO - ECPv6.15.18//NONSGML v1.0//EN
CALSCALE:GREGORIAN
METHOD:PUBLISH
X-ORIGINAL-URL:https://www.orthopaedics.or.at
X-WR-CALDESC:Veranstaltungen für ÖGO
REFRESH-INTERVAL;VALUE=DURATION:PT1H
X-Robots-Tag:noindex
X-PUBLISHED-TTL:PT1H
BEGIN:VTIMEZONE
TZID:Europe/Vienna
BEGIN:DAYLIGHT
TZOFFSETFROM:+0100
TZOFFSETTO:+0200
TZNAME:CEST
DTSTART:20210328T010000
END:DAYLIGHT
BEGIN:STANDARD
TZOFFSETFROM:+0200
TZOFFSETTO:+0100
TZNAME:CET
DTSTART:20211031T010000
END:STANDARD
BEGIN:DAYLIGHT
TZOFFSETFROM:+0100
TZOFFSETTO:+0200
TZNAME:CEST
DTSTART:20220327T010000
END:DAYLIGHT
BEGIN:STANDARD
TZOFFSETFROM:+0200
TZOFFSETTO:+0100
TZNAME:CET
DTSTART:20221030T010000
END:STANDARD
BEGIN:DAYLIGHT
TZOFFSETFROM:+0100
TZOFFSETTO:+0200
TZNAME:CEST
DTSTART:20230326T010000
END:DAYLIGHT
BEGIN:STANDARD
TZOFFSETFROM:+0200
TZOFFSETTO:+0100
TZNAME:CET
DTSTART:20231029T010000
END:STANDARD
END:VTIMEZONE
BEGIN:VEVENT
DTSTART;VALUE=DATE:20220511
DTEND;VALUE=DATE:20220515
DTSTAMP:20260423T160549
CREATED:20200526T084744Z
LAST-MODIFIED:20200526T084744Z
UID:1325-1652227200-1652572799@www.orthopaedics.or.at
SUMMARY:POSNA 2022 Annual Meeting
DESCRIPTION:
URL:https://www.orthopaedics.or.at/event/posna-2022-annual-meeting/
LOCATION:POSNA 2022\, Vancouver\, Kanada
END:VEVENT
BEGIN:VEVENT
DTSTART;VALUE=DATE:20220512
DTEND;VALUE=DATE:20220515
DTSTAMP:20260423T160549
CREATED:20200316T160206Z
LAST-MODIFIED:20220407T065916Z
UID:37-1652313600-1652572799@www.orthopaedics.or.at
SUMMARY:1. Österreichischer Kongress für Orthopädie und Traumatologie
DESCRIPTION:36. Jahrestagung der ÖGO\nHauptthema: Der orthopädische und unfallchirurgische Notfall \n>> Programm\n>> Anmeldung
URL:https://www.orthopaedics.or.at/event/veranstaltung-1/
LOCATION:ÖGO\, Messeplatz 1\, Graz\, Steiermark\, 8010\, Österreich
CATEGORIES:OEGO-Veranstaltungen
ATTACH;FMTTYPE=image/jpeg:https://www.orthopaedics.or.at/wp-content/uploads/2020/04/Logo4c_pfad_termin.jpg
END:VEVENT
BEGIN:VEVENT
DTSTART;TZID=Europe/Vienna:20220513T150000
DTEND;TZID=Europe/Vienna:20220513T180000
DTSTAMP:20260423T160549
CREATED:20220318T084958Z
LAST-MODIFIED:20220318T085103Z
UID:2081-1652454000-1652464800@www.orthopaedics.or.at
SUMMARY:NÖ Gelenks\, Punktions- und Infiltrationskurs - Teil 1
DESCRIPTION:>> weitere Informationen
URL:https://www.orthopaedics.or.at/event/noe-gelenks-punktions-und-infiltrationskurs-teil-1/
LOCATION:Klinisches Institut für Pathologie\, Dunant-Platz 1\, St. Pölten\, 3100
END:VEVENT
END:VCALENDAR