BEGIN:VCALENDAR
VERSION:2.0
PRODID:-//ÖGO - ECPv6.15.18//NONSGML v1.0//EN
CALSCALE:GREGORIAN
METHOD:PUBLISH
X-WR-CALNAME:ÖGO
X-ORIGINAL-URL:https://www.orthopaedics.or.at
X-WR-CALDESC:Veranstaltungen für ÖGO
REFRESH-INTERVAL;VALUE=DURATION:PT1H
X-Robots-Tag:noindex
X-PUBLISHED-TTL:PT1H
BEGIN:VTIMEZONE
TZID:Europe/Vienna
BEGIN:DAYLIGHT
TZOFFSETFROM:+0100
TZOFFSETTO:+0200
TZNAME:CEST
DTSTART:20210328T010000
END:DAYLIGHT
BEGIN:STANDARD
TZOFFSETFROM:+0200
TZOFFSETTO:+0100
TZNAME:CET
DTSTART:20211031T010000
END:STANDARD
BEGIN:DAYLIGHT
TZOFFSETFROM:+0100
TZOFFSETTO:+0200
TZNAME:CEST
DTSTART:20220327T010000
END:DAYLIGHT
BEGIN:STANDARD
TZOFFSETFROM:+0200
TZOFFSETTO:+0100
TZNAME:CET
DTSTART:20221030T010000
END:STANDARD
BEGIN:DAYLIGHT
TZOFFSETFROM:+0100
TZOFFSETTO:+0200
TZNAME:CEST
DTSTART:20230326T010000
END:DAYLIGHT
BEGIN:STANDARD
TZOFFSETFROM:+0200
TZOFFSETTO:+0100
TZNAME:CET
DTSTART:20231029T010000
END:STANDARD
END:VTIMEZONE
BEGIN:VEVENT
DTSTART;VALUE=DATE:20220915
DTEND;VALUE=DATE:20220918
DTSTAMP:20260423T090636
CREATED:20200409T103013Z
LAST-MODIFIED:20200409T103124Z
UID:649-1663200000-1663459199@www.orthopaedics.or.at
SUMMARY:39. AGA Kongress
DESCRIPTION:
URL:https://www.orthopaedics.or.at/event/39-aga-kongress/
LOCATION:AGA 22\, Wien\, Österreich
END:VEVENT
BEGIN:VEVENT
DTSTART;VALUE=DATE:20220915
DTEND;VALUE=DATE:20220918
DTSTAMP:20260423T090636
CREATED:20220801T073719Z
LAST-MODIFIED:20220801T073719Z
UID:2259-1663200000-1663459199@www.orthopaedics.or.at
SUMMARY:27. Jahrestagung der Deutschen Assoziation für Fuß und Sprunggelenk e.V. (D.A.F.)
DESCRIPTION:>> Programm
URL:https://www.orthopaedics.or.at/event/27-jahrestagung-der-deutschen-assoziation-fuer-fuss-und-sprunggelenk-e-v-d-a-f/
LOCATION:Dorint Pallas Wiesbaden\, Auguste-Viktoria-Straße 15\, Wiesbaden\, 65185\, Deutschland
END:VEVENT
END:VCALENDAR