BEGIN:VCALENDAR
VERSION:2.0
PRODID:-//ÖGO - ECPv6.15.18//NONSGML v1.0//EN
CALSCALE:GREGORIAN
METHOD:PUBLISH
X-ORIGINAL-URL:https://www.orthopaedics.or.at
X-WR-CALDESC:Veranstaltungen für ÖGO
REFRESH-INTERVAL;VALUE=DURATION:PT1H
X-Robots-Tag:noindex
X-PUBLISHED-TTL:PT1H
BEGIN:VTIMEZONE
TZID:Europe/Vienna
BEGIN:DAYLIGHT
TZOFFSETFROM:+0100
TZOFFSETTO:+0200
TZNAME:CEST
DTSTART:20210328T010000
END:DAYLIGHT
BEGIN:STANDARD
TZOFFSETFROM:+0200
TZOFFSETTO:+0100
TZNAME:CET
DTSTART:20211031T010000
END:STANDARD
BEGIN:DAYLIGHT
TZOFFSETFROM:+0100
TZOFFSETTO:+0200
TZNAME:CEST
DTSTART:20220327T010000
END:DAYLIGHT
BEGIN:STANDARD
TZOFFSETFROM:+0200
TZOFFSETTO:+0100
TZNAME:CET
DTSTART:20221030T010000
END:STANDARD
BEGIN:DAYLIGHT
TZOFFSETFROM:+0100
TZOFFSETTO:+0200
TZNAME:CEST
DTSTART:20230326T010000
END:DAYLIGHT
BEGIN:STANDARD
TZOFFSETFROM:+0200
TZOFFSETTO:+0100
TZNAME:CET
DTSTART:20231029T010000
END:STANDARD
END:VTIMEZONE
BEGIN:VEVENT
DTSTART;VALUE=DATE:20220919
DTEND;VALUE=DATE:20220921
DTSTAMP:20260423T091220
CREATED:20220701T073003Z
LAST-MODIFIED:20220905T101416Z
UID:2253-1663545600-1663718399@www.orthopaedics.or.at
SUMMARY:Ausbildungskurs Sonographie der Säuglingshüfte
DESCRIPTION:>> nähere Informationen
URL:https://www.orthopaedics.or.at/event/ausbildungskurs-sonographie-der-saeuglingshuefte/
LOCATION:Univ. Klinik für Kinder- und Jugendheilkunde Graz\, Auenbruggerplatz 34-2\, Graz\, 8036\, Österreich
END:VEVENT
BEGIN:VEVENT
DTSTART;VALUE=DATE:20220920
DTEND;VALUE=DATE:20220924
DTSTAMP:20260423T091220
CREATED:20200526T085113Z
LAST-MODIFIED:20200526T085113Z
UID:1328-1663632000-1663977599@www.orthopaedics.or.at
SUMMARY:Annual Congress BOA 2022
DESCRIPTION:
URL:https://www.orthopaedics.or.at/event/annual-congress-boa-2022/
LOCATION:BOA 2022\, Birmingham\, Großbritannien (Vereinigtes Königreich)
END:VEVENT
END:VCALENDAR