BEGIN:VCALENDAR
VERSION:2.0
PRODID:-//ÖGO - ECPv6.15.18//NONSGML v1.0//EN
CALSCALE:GREGORIAN
METHOD:PUBLISH
X-WR-CALNAME:ÖGO
X-ORIGINAL-URL:https://www.orthopaedics.or.at
X-WR-CALDESC:Veranstaltungen für ÖGO
REFRESH-INTERVAL;VALUE=DURATION:PT1H
X-Robots-Tag:noindex
X-PUBLISHED-TTL:PT1H
BEGIN:VTIMEZONE
TZID:Europe/Vienna
BEGIN:DAYLIGHT
TZOFFSETFROM:+0100
TZOFFSETTO:+0200
TZNAME:CEST
DTSTART:20210328T010000
END:DAYLIGHT
BEGIN:STANDARD
TZOFFSETFROM:+0200
TZOFFSETTO:+0100
TZNAME:CET
DTSTART:20211031T010000
END:STANDARD
BEGIN:DAYLIGHT
TZOFFSETFROM:+0100
TZOFFSETTO:+0200
TZNAME:CEST
DTSTART:20220327T010000
END:DAYLIGHT
BEGIN:STANDARD
TZOFFSETFROM:+0200
TZOFFSETTO:+0100
TZNAME:CET
DTSTART:20221030T010000
END:STANDARD
BEGIN:DAYLIGHT
TZOFFSETFROM:+0100
TZOFFSETTO:+0200
TZNAME:CEST
DTSTART:20230326T010000
END:DAYLIGHT
BEGIN:STANDARD
TZOFFSETFROM:+0200
TZOFFSETTO:+0100
TZNAME:CET
DTSTART:20231029T010000
END:STANDARD
END:VTIMEZONE
BEGIN:VEVENT
DTSTART;VALUE=DATE:20221012
DTEND;VALUE=DATE:20221016
DTSTAMP:20260423T072348
CREATED:20200526T085542Z
LAST-MODIFIED:20200526T085542Z
UID:1334-1665532800-1665878399@www.orthopaedics.or.at
SUMMARY:OTA Annual Meeting 2022
DESCRIPTION:
URL:https://www.orthopaedics.or.at/event/ota-annual-meeting-2022/
LOCATION:OTA 2022\, Tampa\, Florida\, Vereinigte Staaten
END:VEVENT
BEGIN:VEVENT
DTSTART;TZID=Europe/Vienna:20221014T150000
DTEND;TZID=Europe/Vienna:20221014T190000
DTSTAMP:20260423T072348
CREATED:20220905T070416Z
LAST-MODIFIED:20220905T070416Z
UID:2271-1665759600-1665774000@www.orthopaedics.or.at
SUMMARY:NÖ Gelenkspunktions- und Infiltrationskurs Teil 2
DESCRIPTION:>> Information \nAnmeldung erforderlich: anatbiomech@kl.ac.at
URL:https://www.orthopaedics.or.at/event/noe-gelenkspunktions-und-infiltrationskurs-teil-2/
LOCATION:Klinisches Institut für Pathologie am Universitätsklinikum St. Pölten\, Dunant-Platz 1\, St. Pölten\, 3100\, Österreich
END:VEVENT
END:VCALENDAR