BEGIN:VCALENDAR
VERSION:2.0
PRODID:-//ÖGO - ECPv6.15.18//NONSGML v1.0//EN
CALSCALE:GREGORIAN
METHOD:PUBLISH
X-WR-CALNAME:ÖGO
X-ORIGINAL-URL:https://www.orthopaedics.or.at
X-WR-CALDESC:Veranstaltungen für ÖGO
REFRESH-INTERVAL;VALUE=DURATION:PT1H
X-Robots-Tag:noindex
X-PUBLISHED-TTL:PT1H
BEGIN:VTIMEZONE
TZID:Europe/Vienna
BEGIN:DAYLIGHT
TZOFFSETFROM:+0100
TZOFFSETTO:+0200
TZNAME:CEST
DTSTART:20220327T010000
END:DAYLIGHT
BEGIN:STANDARD
TZOFFSETFROM:+0200
TZOFFSETTO:+0100
TZNAME:CET
DTSTART:20221030T010000
END:STANDARD
BEGIN:DAYLIGHT
TZOFFSETFROM:+0100
TZOFFSETTO:+0200
TZNAME:CEST
DTSTART:20230326T010000
END:DAYLIGHT
BEGIN:STANDARD
TZOFFSETFROM:+0200
TZOFFSETTO:+0100
TZNAME:CET
DTSTART:20231029T010000
END:STANDARD
BEGIN:DAYLIGHT
TZOFFSETFROM:+0100
TZOFFSETTO:+0200
TZNAME:CEST
DTSTART:20240331T010000
END:DAYLIGHT
BEGIN:STANDARD
TZOFFSETFROM:+0200
TZOFFSETTO:+0100
TZNAME:CET
DTSTART:20241027T010000
END:STANDARD
END:VTIMEZONE
BEGIN:VEVENT
DTSTART;VALUE=DATE:20230425
DTEND;VALUE=DATE:20230430
DTSTAMP:20260422T213615
CREATED:20200526T090109Z
LAST-MODIFIED:20200526T090109Z
UID:1340-1682380800-1682812799@www.orthopaedics.or.at
SUMMARY:POSNA Annual Meeting 2023
DESCRIPTION:
URL:https://www.orthopaedics.or.at/event/posna-annual-meeting-2023/
LOCATION:POSNA 2023\, Nashville\, Tennessee\, Vereinigte Staaten
END:VEVENT
BEGIN:VEVENT
DTSTART;TZID=Europe/Vienna:20230428T150000
DTEND;TZID=Europe/Vienna:20230428T180000
DTSTAMP:20260422T213615
CREATED:20230201T083252Z
LAST-MODIFIED:20230201T083959Z
UID:2445-1682694000-1682704800@www.orthopaedics.or.at
SUMMARY:NÖ Gelenkspunktions- und Infiltrationskurs - Teil 1
DESCRIPTION:>> Folder \n>> Anmeldung \n  \nTeil 2 findet am 20.10.2023 statt >> zur Veranstaltung
URL:https://www.orthopaedics.or.at/event/noe-gelenkspunktions-und-infiltrationskurs-teil-1/
LOCATION:Klinisches Institut für Pathologie am Universitätsklinikum St. Pölten\, Dunant-Platz 1\, St. Pölten\, 3100\, Österreich
END:VEVENT
END:VCALENDAR