BEGIN:VCALENDAR
VERSION:2.0
PRODID:-//ÖGO - ECPv6.15.18//NONSGML v1.0//EN
CALSCALE:GREGORIAN
METHOD:PUBLISH
X-WR-CALNAME:ÖGO
X-ORIGINAL-URL:https://www.orthopaedics.or.at
X-WR-CALDESC:Veranstaltungen für ÖGO
REFRESH-INTERVAL;VALUE=DURATION:PT1H
X-Robots-Tag:noindex
X-PUBLISHED-TTL:PT1H
BEGIN:VTIMEZONE
TZID:Europe/Vienna
BEGIN:DAYLIGHT
TZOFFSETFROM:+0100
TZOFFSETTO:+0200
TZNAME:CEST
DTSTART:20220327T010000
END:DAYLIGHT
BEGIN:STANDARD
TZOFFSETFROM:+0200
TZOFFSETTO:+0100
TZNAME:CET
DTSTART:20221030T010000
END:STANDARD
BEGIN:DAYLIGHT
TZOFFSETFROM:+0100
TZOFFSETTO:+0200
TZNAME:CEST
DTSTART:20230326T010000
END:DAYLIGHT
BEGIN:STANDARD
TZOFFSETFROM:+0200
TZOFFSETTO:+0100
TZNAME:CET
DTSTART:20231029T010000
END:STANDARD
BEGIN:DAYLIGHT
TZOFFSETFROM:+0100
TZOFFSETTO:+0200
TZNAME:CEST
DTSTART:20240331T010000
END:DAYLIGHT
BEGIN:STANDARD
TZOFFSETFROM:+0200
TZOFFSETTO:+0100
TZNAME:CET
DTSTART:20241027T010000
END:STANDARD
END:VTIMEZONE
BEGIN:VEVENT
DTSTART;VALUE=DATE:20230504
DTEND;VALUE=DATE:20230508
DTSTAMP:20260422T200242
CREATED:20221201T085159Z
LAST-MODIFIED:20221201T085159Z
UID:2371-1683158400-1683503999@www.orthopaedics.or.at
SUMMARY:World Congress on Osteoporosis\, Osteoarthritis and Musculoskeletal Diseases 2023
DESCRIPTION:>> Programm \n>> Anmeldung
URL:https://www.orthopaedics.or.at/event/world-congress-on-osteoporosis-osteoarthritis-and-musculoskeletal-diseases-2023/
LOCATION:Barcelona International Convention Centre (CCIB)\, Plaça de Willy Brandt\, 11-14\, Barcelona\, 08019\, Spanien
END:VEVENT
BEGIN:VEVENT
DTSTART;VALUE=DATE:20230507
DTEND;VALUE=DATE:20230510
DTSTAMP:20260422T200242
CREATED:20220928T081103Z
LAST-MODIFIED:20220928T081323Z
UID:2307-1683417600-1683676799@www.orthopaedics.or.at
SUMMARY:22nd European Congress of Trauma & Emergency Surgery (ECTES)
DESCRIPTION:>> Allgemeine Informationen \n>> Registrierung
URL:https://www.orthopaedics.or.at/event/22nd-european-congress-of-trauma-emergency-surgery-ectes/
LOCATION:Cankarjev dom\, Prešernova cesta 10\, Ljubljana\, 1000\, Slovenien
END:VEVENT
END:VCALENDAR