BEGIN:VCALENDAR
VERSION:2.0
PRODID:-//ÖGO - ECPv6.15.18//NONSGML v1.0//EN
CALSCALE:GREGORIAN
METHOD:PUBLISH
X-ORIGINAL-URL:https://www.orthopaedics.or.at
X-WR-CALDESC:Veranstaltungen für ÖGO
REFRESH-INTERVAL;VALUE=DURATION:PT1H
X-Robots-Tag:noindex
X-PUBLISHED-TTL:PT1H
BEGIN:VTIMEZONE
TZID:Europe/Vienna
BEGIN:DAYLIGHT
TZOFFSETFROM:+0100
TZOFFSETTO:+0200
TZNAME:CEST
DTSTART:20220327T010000
END:DAYLIGHT
BEGIN:STANDARD
TZOFFSETFROM:+0200
TZOFFSETTO:+0100
TZNAME:CET
DTSTART:20221030T010000
END:STANDARD
BEGIN:DAYLIGHT
TZOFFSETFROM:+0100
TZOFFSETTO:+0200
TZNAME:CEST
DTSTART:20230326T010000
END:DAYLIGHT
BEGIN:STANDARD
TZOFFSETFROM:+0200
TZOFFSETTO:+0100
TZNAME:CET
DTSTART:20231029T010000
END:STANDARD
BEGIN:DAYLIGHT
TZOFFSETFROM:+0100
TZOFFSETTO:+0200
TZNAME:CEST
DTSTART:20240331T010000
END:DAYLIGHT
BEGIN:STANDARD
TZOFFSETFROM:+0200
TZOFFSETTO:+0100
TZNAME:CET
DTSTART:20241027T010000
END:STANDARD
END:VTIMEZONE
BEGIN:VEVENT
DTSTART;VALUE=DATE:20230531
DTEND;VALUE=DATE:20230604
DTSTAMP:20260422T182951
CREATED:20221201T090547Z
LAST-MODIFIED:20221201T090547Z
UID:2379-1685491200-1685836799@www.orthopaedics.or.at
SUMMARY:EULAR 2023 - European Congress of Rheumatology
DESCRIPTION:>> Programm \n>> Anmeldung
URL:https://www.orthopaedics.or.at/event/eular-2023-european-congress-of-rheumatology/
LOCATION:MiCo Convention Center\, Piazzale Carlo Magno\, 1\, Mailand\, 20149\, Italien
END:VEVENT
BEGIN:VEVENT
DTSTART;VALUE=DATE:20230601
DTEND;VALUE=DATE:20230604
DTSTAMP:20260422T182951
CREATED:20230517T083719Z
LAST-MODIFIED:20230517T085956Z
UID:2548-1685577600-1685836799@www.orthopaedics.or.at
SUMMARY:28. Jahrestagung der Deutschen Assoziation für Fuß und Sprunggelenk e.V. (D.A.F.)
DESCRIPTION:>> Programm \n>> Anmeldung
URL:https://www.orthopaedics.or.at/event/28-jahrestagung-der-deutschen-assoziation-fuer-fuss-und-sprunggelenk-e-v-d-a-f/
LOCATION:StadtHalle Rostock\, Südring 90\, Rostock\, 18059\, Deutschland
END:VEVENT
END:VCALENDAR