BEGIN:VCALENDAR
VERSION:2.0
PRODID:-//ÖGO - ECPv6.15.18//NONSGML v1.0//EN
CALSCALE:GREGORIAN
METHOD:PUBLISH
X-WR-CALNAME:ÖGO
X-ORIGINAL-URL:https://www.orthopaedics.or.at
X-WR-CALDESC:Veranstaltungen für ÖGO
REFRESH-INTERVAL;VALUE=DURATION:PT1H
X-Robots-Tag:noindex
X-PUBLISHED-TTL:PT1H
BEGIN:VTIMEZONE
TZID:Europe/Vienna
BEGIN:DAYLIGHT
TZOFFSETFROM:+0100
TZOFFSETTO:+0200
TZNAME:CEST
DTSTART:20230326T010000
END:DAYLIGHT
BEGIN:STANDARD
TZOFFSETFROM:+0200
TZOFFSETTO:+0100
TZNAME:CET
DTSTART:20231029T010000
END:STANDARD
BEGIN:DAYLIGHT
TZOFFSETFROM:+0100
TZOFFSETTO:+0200
TZNAME:CEST
DTSTART:20240331T010000
END:DAYLIGHT
BEGIN:STANDARD
TZOFFSETFROM:+0200
TZOFFSETTO:+0100
TZNAME:CET
DTSTART:20241027T010000
END:STANDARD
BEGIN:DAYLIGHT
TZOFFSETFROM:+0100
TZOFFSETTO:+0200
TZNAME:CEST
DTSTART:20250330T010000
END:DAYLIGHT
BEGIN:STANDARD
TZOFFSETFROM:+0200
TZOFFSETTO:+0100
TZNAME:CET
DTSTART:20251026T010000
END:STANDARD
END:VTIMEZONE
BEGIN:VEVENT
DTSTART;VALUE=DATE:20240216
DTEND;VALUE=DATE:20240225
DTSTAMP:20260421T084711
CREATED:20230925T115335Z
LAST-MODIFIED:20230925T115335Z
UID:2647-1708041600-1708819199@www.orthopaedics.or.at
SUMMARY:38th German-Austrian-Swiss Congress of Sports Traumatology & Sports Medicine: Orthopedic aspects in sports
DESCRIPTION:>> Programm \n>> Anmeldung
URL:https://www.orthopaedics.or.at/event/38th-german-austrian-swiss-congress-of-sports-traumatology-sports-medicine-orthopedic-aspects-in-sports/
LOCATION:Olympiakongreßzentrum Seefeld/Tirol\, Klosterstraße 600\, Seefeld\, 6100\, Österreich
END:VEVENT
BEGIN:VEVENT
DTSTART;VALUE=DATE:20240223
DTEND;VALUE=DATE:20240225
DTSTAMP:20260421T084711
CREATED:20240125T133826Z
LAST-MODIFIED:20240125T133826Z
UID:2884-1708646400-1708819199@www.orthopaedics.or.at
SUMMARY:ÖGO-Ausbildungsseminar "Fußchirurgie in der Orthopädie"
DESCRIPTION:>> Programm \n>> Anmeldung
URL:https://www.orthopaedics.or.at/event/oego-ausbildungsseminar-fusschirurgie-in-der-orthopaedie-2/
LOCATION:Orthopädisches Spital Speising\, Speisinger Straße 109\, Wien\, 1130
CATEGORIES:OEGO-Veranstaltungen
ATTACH;FMTTYPE=image/jpeg:https://www.orthopaedics.or.at/wp-content/uploads/2020/04/Logo4c_pfad_termin.jpg
END:VEVENT
END:VCALENDAR