BEGIN:VCALENDAR
VERSION:2.0
PRODID:-//ÖGO - ECPv6.15.18//NONSGML v1.0//EN
CALSCALE:GREGORIAN
METHOD:PUBLISH
X-WR-CALNAME:ÖGO
X-ORIGINAL-URL:https://www.orthopaedics.or.at
X-WR-CALDESC:Veranstaltungen für ÖGO
REFRESH-INTERVAL;VALUE=DURATION:PT1H
X-Robots-Tag:noindex
X-PUBLISHED-TTL:PT1H
BEGIN:VTIMEZONE
TZID:Europe/Vienna
BEGIN:DAYLIGHT
TZOFFSETFROM:+0100
TZOFFSETTO:+0200
TZNAME:CEST
DTSTART:20230326T010000
END:DAYLIGHT
BEGIN:STANDARD
TZOFFSETFROM:+0200
TZOFFSETTO:+0100
TZNAME:CET
DTSTART:20231029T010000
END:STANDARD
BEGIN:DAYLIGHT
TZOFFSETFROM:+0100
TZOFFSETTO:+0200
TZNAME:CEST
DTSTART:20240331T010000
END:DAYLIGHT
BEGIN:STANDARD
TZOFFSETFROM:+0200
TZOFFSETTO:+0100
TZNAME:CET
DTSTART:20241027T010000
END:STANDARD
BEGIN:DAYLIGHT
TZOFFSETFROM:+0100
TZOFFSETTO:+0200
TZNAME:CEST
DTSTART:20250330T010000
END:DAYLIGHT
BEGIN:STANDARD
TZOFFSETFROM:+0200
TZOFFSETTO:+0100
TZNAME:CET
DTSTART:20251026T010000
END:STANDARD
END:VTIMEZONE
BEGIN:VEVENT
DTSTART;VALUE=DATE:20240424
DTEND;VALUE=DATE:20240427
DTSTAMP:20260421T051801
CREATED:20230929T093421Z
LAST-MODIFIED:20230929T093421Z
UID:2725-1713916800-1714175999@www.orthopaedics.or.at
SUMMARY:13. Jahrestagung der Deutsche Gesellschaft für Biomechanik e. V.
DESCRIPTION:>> Programm \n>> Anmeldung
URL:https://www.orthopaedics.or.at/event/13-jahrestagung-der-deutsche-gesellschaft-fuer-biomechanik-e-v/
LOCATION:Heidelberg\, Heidelberg\, Deutschland
END:VEVENT
BEGIN:VEVENT
DTSTART;VALUE=DATE:20240425
DTEND;VALUE=DATE:20240428
DTSTAMP:20260421T051801
CREATED:20230925T152252Z
LAST-MODIFIED:20230925T152252Z
UID:2672-1714003200-1714262399@www.orthopaedics.or.at
SUMMARY:72. Jahrestagung der Vereinigung Süddeutscher Orthopäden und Unfallchirurgen e.V. – VSOU 2024
DESCRIPTION:>> Programm \n>> Anmeldung
URL:https://www.orthopaedics.or.at/event/72-jahrestagung-der-vereinigung-sueddeutscher-orthopaeden-und-unfallchirurgen-e-v-vsou-2024/
LOCATION:Kongresshaus Baden-Baden\, Augustaplatz 10\, Baden-Baden\, 76530\, Deutschland
END:VEVENT
BEGIN:VEVENT
DTSTART;VALUE=DATE:20240425
DTEND;VALUE=DATE:20240427
DTSTAMP:20260421T051801
CREATED:20231108T104311Z
LAST-MODIFIED:20240229T092103Z
UID:2796-1714003200-1714175999@www.orthopaedics.or.at
SUMMARY:AUSGEBUCHT! Sonografie der Säuglingshüfte nach Graf: Grund- und Aufbaukurs
DESCRIPTION:Keine freien Plätze verfügbar. \nAusbildungskurs der Medizinischen Universität Wien \n>> Programm \nAnmeldung und Information:\nManuela Gangl\nmanuela.gangl@meduniwien.ac.at\nTel. +43 1 40400 40760 \nAnmeldeschluss 31. März 2024
URL:https://www.orthopaedics.or.at/event/sonografie-der-saeuglingshuefte-nach-graf-grund-und-aufbaukurs-3/
LOCATION:AKH Wien\, Währinger Gürtel 18-20\, Wien\, 1090
END:VEVENT
END:VCALENDAR