BEGIN:VCALENDAR
VERSION:2.0
PRODID:-//ÖGO - ECPv6.15.18//NONSGML v1.0//EN
CALSCALE:GREGORIAN
METHOD:PUBLISH
X-WR-CALNAME:ÖGO
X-ORIGINAL-URL:https://www.orthopaedics.or.at
X-WR-CALDESC:Veranstaltungen für ÖGO
REFRESH-INTERVAL;VALUE=DURATION:PT1H
X-Robots-Tag:noindex
X-PUBLISHED-TTL:PT1H
BEGIN:VTIMEZONE
TZID:Europe/Vienna
BEGIN:DAYLIGHT
TZOFFSETFROM:+0100
TZOFFSETTO:+0200
TZNAME:CEST
DTSTART:20230326T010000
END:DAYLIGHT
BEGIN:STANDARD
TZOFFSETFROM:+0200
TZOFFSETTO:+0100
TZNAME:CET
DTSTART:20231029T010000
END:STANDARD
BEGIN:DAYLIGHT
TZOFFSETFROM:+0100
TZOFFSETTO:+0200
TZNAME:CEST
DTSTART:20240331T010000
END:DAYLIGHT
BEGIN:STANDARD
TZOFFSETFROM:+0200
TZOFFSETTO:+0100
TZNAME:CET
DTSTART:20241027T010000
END:STANDARD
BEGIN:DAYLIGHT
TZOFFSETFROM:+0100
TZOFFSETTO:+0200
TZNAME:CEST
DTSTART:20250330T010000
END:DAYLIGHT
BEGIN:STANDARD
TZOFFSETFROM:+0200
TZOFFSETTO:+0100
TZNAME:CET
DTSTART:20251026T010000
END:STANDARD
END:VTIMEZONE
BEGIN:VEVENT
DTSTART;VALUE=DATE:20240508
DTEND;VALUE=DATE:20240512
DTSTAMP:20260421T034940
CREATED:20221201T093841Z
LAST-MODIFIED:20230925T111508Z
UID:2405-1715126400-1715471999@www.orthopaedics.or.at
SUMMARY:Combined EPOS/POSNA Meeting (2nd EPOSNA)
DESCRIPTION:
URL:https://www.orthopaedics.or.at/event/combined-epos-posna-meeting-2nd-eposna/
LOCATION:Washington DC
END:VEVENT
BEGIN:VEVENT
DTSTART;VALUE=DATE:20240508
DTEND;VALUE=DATE:20240511
DTSTAMP:20260421T034940
CREATED:20230926T092018Z
LAST-MODIFIED:20230926T092018Z
UID:2676-1715126400-1715385599@www.orthopaedics.or.at
SUMMARY:21st ESSKA Congress Milan 2024
DESCRIPTION:>> Programm \n>> Anmeldung
URL:https://www.orthopaedics.or.at/event/21st-esska-congress-milan-2024/
LOCATION:Allianz MiCo\, Piazzale Carlo Magno\, 1\, Milano\, 20149\, Italien
END:VEVENT
BEGIN:VEVENT
DTSTART;VALUE=DATE:20240509
DTEND;VALUE=DATE:20240512
DTSTAMP:20260421T034940
CREATED:20230731T095231Z
LAST-MODIFIED:20230731T095231Z
UID:2591-1715212800-1715471999@www.orthopaedics.or.at
SUMMARY:16th Congress of the European Federation of Societies for Microsurgery
DESCRIPTION:Website: https://www.euromicro2024.com/ \n 
URL:https://www.orthopaedics.or.at/event/16th-congress-of-the-european-federation-of-societies-for-microsurgery/
LOCATION:Mailand\, Italien
END:VEVENT
END:VCALENDAR