BEGIN:VCALENDAR
VERSION:2.0
PRODID:-//ÖGO - ECPv6.15.18//NONSGML v1.0//EN
CALSCALE:GREGORIAN
METHOD:PUBLISH
X-ORIGINAL-URL:https://www.orthopaedics.or.at
X-WR-CALDESC:Veranstaltungen für ÖGO
REFRESH-INTERVAL;VALUE=DURATION:PT1H
X-Robots-Tag:noindex
X-PUBLISHED-TTL:PT1H
BEGIN:VTIMEZONE
TZID:Europe/Vienna
BEGIN:DAYLIGHT
TZOFFSETFROM:+0100
TZOFFSETTO:+0200
TZNAME:CEST
DTSTART:20230326T010000
END:DAYLIGHT
BEGIN:STANDARD
TZOFFSETFROM:+0200
TZOFFSETTO:+0100
TZNAME:CET
DTSTART:20231029T010000
END:STANDARD
BEGIN:DAYLIGHT
TZOFFSETFROM:+0100
TZOFFSETTO:+0200
TZNAME:CEST
DTSTART:20240331T010000
END:DAYLIGHT
BEGIN:STANDARD
TZOFFSETFROM:+0200
TZOFFSETTO:+0100
TZNAME:CET
DTSTART:20241027T010000
END:STANDARD
BEGIN:DAYLIGHT
TZOFFSETFROM:+0100
TZOFFSETTO:+0200
TZNAME:CEST
DTSTART:20250330T010000
END:DAYLIGHT
BEGIN:STANDARD
TZOFFSETFROM:+0200
TZOFFSETTO:+0100
TZNAME:CET
DTSTART:20251026T010000
END:STANDARD
END:VTIMEZONE
BEGIN:VEVENT
DTSTART;VALUE=DATE:20240912
DTEND;VALUE=DATE:20240915
DTSTAMP:20260420T210743
CREATED:20230926T110612Z
LAST-MODIFIED:20230926T110612Z
UID:2696-1726099200-1726358399@www.orthopaedics.or.at
SUMMARY:44th Congress of the Polish Orthopedic and Traumatological Society
DESCRIPTION:>> Programm \n>> Anmeldung
URL:https://www.orthopaedics.or.at/event/44th-congress-of-the-polish-orthopedic-and-traumatological-society/
LOCATION:Internationales Kongresszentrum Katowice\, Plac Sławika i Antalla 1\, Kattowitz\, 40-163\, Polen
END:VEVENT
BEGIN:VEVENT
DTSTART;VALUE=DATE:20240912
DTEND;VALUE=DATE:20240915
DTSTAMP:20260420T210743
CREATED:20231106T082818Z
LAST-MODIFIED:20231106T082818Z
UID:2780-1726099200-1726358399@www.orthopaedics.or.at
SUMMARY:41. AGA Kongress
DESCRIPTION:
URL:https://www.orthopaedics.or.at/event/41-aga-kongress/
LOCATION:Zürich\, Zürich\, Schweiz
END:VEVENT
BEGIN:VEVENT
DTSTART;TZID=Europe/Vienna:20240913T150000
DTEND;TZID=Europe/Vienna:20240914T123000
DTSTAMP:20260420T210743
CREATED:20240905T091047Z
LAST-MODIFIED:20240905T091047Z
UID:3087-1726239600-1726317000@www.orthopaedics.or.at
SUMMARY:6. Wiener Symposium für Perioperative Medizin
DESCRIPTION:Cutting-Edge-Technologien im Perioperativen Bereich \n>> Programm \n>> Anmeldung
URL:https://www.orthopaedics.or.at/event/6-wiener-symposium-fuer-perioperative-medizin/
LOCATION:Josephinum\, Sammlungen der Medizinischen Universität Wien\, Währinger Straße 25\, Wien\, 1090
END:VEVENT
END:VCALENDAR