BEGIN:VCALENDAR
VERSION:2.0
PRODID:-//ÖGO - ECPv6.15.18//NONSGML v1.0//EN
CALSCALE:GREGORIAN
METHOD:PUBLISH
X-WR-CALNAME:ÖGO
X-ORIGINAL-URL:https://www.orthopaedics.or.at
X-WR-CALDESC:Veranstaltungen für ÖGO
REFRESH-INTERVAL;VALUE=DURATION:PT1H
X-Robots-Tag:noindex
X-PUBLISHED-TTL:PT1H
BEGIN:VTIMEZONE
TZID:Europe/Vienna
BEGIN:DAYLIGHT
TZOFFSETFROM:+0100
TZOFFSETTO:+0200
TZNAME:CEST
DTSTART:20230326T010000
END:DAYLIGHT
BEGIN:STANDARD
TZOFFSETFROM:+0200
TZOFFSETTO:+0100
TZNAME:CET
DTSTART:20231029T010000
END:STANDARD
BEGIN:DAYLIGHT
TZOFFSETFROM:+0100
TZOFFSETTO:+0200
TZNAME:CEST
DTSTART:20240331T010000
END:DAYLIGHT
BEGIN:STANDARD
TZOFFSETFROM:+0200
TZOFFSETTO:+0100
TZNAME:CET
DTSTART:20241027T010000
END:STANDARD
BEGIN:DAYLIGHT
TZOFFSETFROM:+0100
TZOFFSETTO:+0200
TZNAME:CEST
DTSTART:20250330T010000
END:DAYLIGHT
BEGIN:STANDARD
TZOFFSETFROM:+0200
TZOFFSETTO:+0100
TZNAME:CET
DTSTART:20251026T010000
END:STANDARD
END:VTIMEZONE
BEGIN:VEVENT
DTSTART;VALUE=DATE:20240920
DTEND;VALUE=DATE:20240922
DTSTAMP:20260420T210445
CREATED:20240611T102914Z
LAST-MODIFIED:20240611T102914Z
UID:3048-1726790400-1726963199@www.orthopaedics.or.at
SUMMARY:Jahrestagung ÖGPMR
DESCRIPTION:>> Programm \n>> Anmeldung
URL:https://www.orthopaedics.or.at/event/jahrestagung-oegpmr/
LOCATION:Kongress und TheaterHaus Bad Ischl\, Kurhausstraße 8\, Bad Ischl\, 4820\, Österreich
END:VEVENT
BEGIN:VEVENT
DTSTART;VALUE=DATE:20240920
DTEND;VALUE=DATE:20240922
DTSTAMP:20260420T210445
CREATED:20240702T110611Z
LAST-MODIFIED:20240702T110611Z
UID:3053-1726790400-1726963199@www.orthopaedics.or.at
SUMMARY:27th Vienna Arthroscopy Forum
DESCRIPTION:International Meeting focused on shoulder procedures and hands-on-technique training in the wet lab. \n>> Anmeldung
URL:https://www.orthopaedics.or.at/event/27th-vienna-arthroscopy-forum/
LOCATION:Orthopädisches Spital Speising\, Speisinger Straße 109\, Wien\, 1130
END:VEVENT
END:VCALENDAR