BEGIN:VCALENDAR
VERSION:2.0
PRODID:-//ÖGO - ECPv6.15.18//NONSGML v1.0//EN
CALSCALE:GREGORIAN
METHOD:PUBLISH
X-ORIGINAL-URL:https://www.orthopaedics.or.at
X-WR-CALDESC:Veranstaltungen für ÖGO
REFRESH-INTERVAL;VALUE=DURATION:PT1H
X-Robots-Tag:noindex
X-PUBLISHED-TTL:PT1H
BEGIN:VTIMEZONE
TZID:Europe/Vienna
BEGIN:DAYLIGHT
TZOFFSETFROM:+0100
TZOFFSETTO:+0200
TZNAME:CEST
DTSTART:20230326T010000
END:DAYLIGHT
BEGIN:STANDARD
TZOFFSETFROM:+0200
TZOFFSETTO:+0100
TZNAME:CET
DTSTART:20231029T010000
END:STANDARD
BEGIN:DAYLIGHT
TZOFFSETFROM:+0100
TZOFFSETTO:+0200
TZNAME:CEST
DTSTART:20240331T010000
END:DAYLIGHT
BEGIN:STANDARD
TZOFFSETFROM:+0200
TZOFFSETTO:+0100
TZNAME:CET
DTSTART:20241027T010000
END:STANDARD
BEGIN:DAYLIGHT
TZOFFSETFROM:+0100
TZOFFSETTO:+0200
TZNAME:CEST
DTSTART:20250330T010000
END:DAYLIGHT
BEGIN:STANDARD
TZOFFSETFROM:+0200
TZOFFSETTO:+0100
TZNAME:CET
DTSTART:20251026T010000
END:STANDARD
END:VTIMEZONE
BEGIN:VEVENT
DTSTART;VALUE=DATE:20241002
DTEND;VALUE=DATE:20241005
DTSTAMP:20260420T180115
CREATED:20221201T094020Z
LAST-MODIFIED:20221201T095334Z
UID:2409-1727827200-1728086399@www.orthopaedics.or.at
SUMMARY:EUROSPINE 2024
DESCRIPTION:
URL:https://www.orthopaedics.or.at/event/eurospine-2024/
LOCATION:Reed Messe Wien Exhibition & Congress Center\, Messeplatz 1\, Wien\, 1020\, Österreich
END:VEVENT
BEGIN:VEVENT
DTSTART;VALUE=DATE:20241003
DTEND;VALUE=DATE:20241006
DTSTAMP:20260420T180115
CREATED:20240111T142525Z
LAST-MODIFIED:20240111T142525Z
UID:2856-1727913600-1728172799@www.orthopaedics.or.at
SUMMARY:60. ÖGU + 5. ÖGOuT Jahrestagung: Akutfälle in der Traumatologie & Orthopädie
DESCRIPTION:>> Vorprogramm
URL:https://www.orthopaedics.or.at/event/60-oegu-5-oegout-jahrestagung-akutfaelle-in-der-traumatologie-orthopaedie/
LOCATION:Wyndham Grand Salzburg Conference Hotel\, Fanny-von-Lehnert-Straße 7\, Salzburg\, 5020\, Österreich
END:VEVENT
END:VCALENDAR