BEGIN:VCALENDAR
VERSION:2.0
PRODID:-//ÖGO - ECPv6.15.18//NONSGML v1.0//EN
CALSCALE:GREGORIAN
METHOD:PUBLISH
X-WR-CALNAME:ÖGO
X-ORIGINAL-URL:https://www.orthopaedics.or.at
X-WR-CALDESC:Veranstaltungen für ÖGO
REFRESH-INTERVAL;VALUE=DURATION:PT1H
X-Robots-Tag:noindex
X-PUBLISHED-TTL:PT1H
BEGIN:VTIMEZONE
TZID:Europe/Vienna
BEGIN:DAYLIGHT
TZOFFSETFROM:+0100
TZOFFSETTO:+0200
TZNAME:CEST
DTSTART:20240331T010000
END:DAYLIGHT
BEGIN:STANDARD
TZOFFSETFROM:+0200
TZOFFSETTO:+0100
TZNAME:CET
DTSTART:20241027T010000
END:STANDARD
BEGIN:DAYLIGHT
TZOFFSETFROM:+0100
TZOFFSETTO:+0200
TZNAME:CEST
DTSTART:20250330T010000
END:DAYLIGHT
BEGIN:STANDARD
TZOFFSETFROM:+0200
TZOFFSETTO:+0100
TZNAME:CET
DTSTART:20251026T010000
END:STANDARD
BEGIN:DAYLIGHT
TZOFFSETFROM:+0100
TZOFFSETTO:+0200
TZNAME:CEST
DTSTART:20260329T010000
END:DAYLIGHT
BEGIN:STANDARD
TZOFFSETFROM:+0200
TZOFFSETTO:+0100
TZNAME:CET
DTSTART:20261025T010000
END:STANDARD
END:VTIMEZONE
BEGIN:VEVENT
DTSTART;VALUE=DATE:20250226
DTEND;VALUE=DATE:20250301
DTSTAMP:20260421T020014
CREATED:20241202T095434Z
LAST-MODIFIED:20241202T095434Z
UID:3162-1740528000-1740787199@www.orthopaedics.or.at
SUMMARY:10th Bone and Soft Tissue Tumors Madrid Cours
DESCRIPTION:>> Programm \n>> Anmeldung
URL:https://www.orthopaedics.or.at/event/10th-bone-and-soft-tissue-tumors-madrid-cours/
LOCATION:Hotel Vincci Soma\, Calle de Goya\, 79\, Madrid\, 28001\, Spain
END:VEVENT
END:VCALENDAR