BEGIN:VCALENDAR
VERSION:2.0
PRODID:-//ÖGO - ECPv6.15.18//NONSGML v1.0//EN
CALSCALE:GREGORIAN
METHOD:PUBLISH
X-WR-CALNAME:ÖGO
X-ORIGINAL-URL:https://www.orthopaedics.or.at
X-WR-CALDESC:Veranstaltungen für ÖGO
REFRESH-INTERVAL;VALUE=DURATION:PT1H
X-Robots-Tag:noindex
X-PUBLISHED-TTL:PT1H
BEGIN:VTIMEZONE
TZID:Europe/Vienna
BEGIN:DAYLIGHT
TZOFFSETFROM:+0100
TZOFFSETTO:+0200
TZNAME:CEST
DTSTART:20240331T010000
END:DAYLIGHT
BEGIN:STANDARD
TZOFFSETFROM:+0200
TZOFFSETTO:+0100
TZNAME:CET
DTSTART:20241027T010000
END:STANDARD
BEGIN:DAYLIGHT
TZOFFSETFROM:+0100
TZOFFSETTO:+0200
TZNAME:CEST
DTSTART:20250330T010000
END:DAYLIGHT
BEGIN:STANDARD
TZOFFSETFROM:+0200
TZOFFSETTO:+0100
TZNAME:CET
DTSTART:20251026T010000
END:STANDARD
BEGIN:DAYLIGHT
TZOFFSETFROM:+0100
TZOFFSETTO:+0200
TZNAME:CEST
DTSTART:20260329T010000
END:DAYLIGHT
BEGIN:STANDARD
TZOFFSETFROM:+0200
TZOFFSETTO:+0100
TZNAME:CET
DTSTART:20261025T010000
END:STANDARD
END:VTIMEZONE
BEGIN:VEVENT
DTSTART;VALUE=DATE:20250507
DTEND;VALUE=DATE:20250510
DTSTAMP:20260421T063152
CREATED:20240809T122007Z
LAST-MODIFIED:20240809T122115Z
UID:3074-1746576000-1746835199@www.orthopaedics.or.at
SUMMARY:Österreichischer Kongress für Orthopädie und Traumatologie 2025 (ÖGOuT - ÖGO - ÖGU)
DESCRIPTION:>> Programm \n>> Anmeldung
URL:https://www.orthopaedics.or.at/event/oesterreichischer-kongress-fuer-orthopaedie-und-traumatologie-2025/
LOCATION:Austria Center Vienna\, Bruno-Kreisky-Platz 1\, Wien\, 1220\, Österreich
CATEGORIES:OEGO-Veranstaltungen
ATTACH;FMTTYPE=image/jpeg:https://www.orthopaedics.or.at/wp-content/uploads/2020/04/Logo4c_pfad_termin.jpg
END:VEVENT
BEGIN:VEVENT
DTSTART;VALUE=DATE:20250508
DTEND;VALUE=DATE:20250511
DTSTAMP:20260421T063152
CREATED:20241122T152610Z
LAST-MODIFIED:20241122T152610Z
UID:3156-1746662400-1746921599@www.orthopaedics.or.at
SUMMARY:Fußkongress: D.A.F. meets LIOST – 30. Jahrestagung der Deutschen Assoziation für Fuß und Sprunggelenk e.V. (D.A.F.) 2025
DESCRIPTION:Spitzenmedizin für Fuß- und Sprunggelenk: „Evidenzbasiert – Interdisziplinär“ \n>> Programm \n>> Anmeldung \n  \n>> Call for Abstracts
URL:https://www.orthopaedics.or.at/event/fusskongress-d-a-f-meets-liost-30-jahrestagung-der-deutschen-assoziation-fuer-fuss-und-sprunggelenk-e-v-d-a-f-2025/
LOCATION:Science Congress Center Munich\, Walter-von-Dyck-Str. 10\, Garching bei München\, 85748\, Germany
END:VEVENT
BEGIN:VEVENT
DTSTART;VALUE=DATE:20250508
DTEND;VALUE=DATE:20250511
DTSTAMP:20260421T063152
CREATED:20250408T101318Z
LAST-MODIFIED:20250408T101318Z
UID:3273-1746662400-1746921599@www.orthopaedics.or.at
SUMMARY:64. DAH Symposium
DESCRIPTION:>> Programm \n>> Anmeldung \n  \nEine virtuelle Teilnahme ist möglich.
URL:https://www.orthopaedics.or.at/event/64-dah-symposium/
LOCATION:Harnack Haus\, Ihnestraße 16-20\, Berlin\, 14195\, Germany
END:VEVENT
END:VCALENDAR