BEGIN:VCALENDAR
VERSION:2.0
PRODID:-//ÖGO - ECPv6.15.18//NONSGML v1.0//EN
CALSCALE:GREGORIAN
METHOD:PUBLISH
X-WR-CALNAME:ÖGO
X-ORIGINAL-URL:https://www.orthopaedics.or.at
X-WR-CALDESC:Veranstaltungen für ÖGO
REFRESH-INTERVAL;VALUE=DURATION:PT1H
X-Robots-Tag:noindex
X-PUBLISHED-TTL:PT1H
BEGIN:VTIMEZONE
TZID:Europe/Vienna
BEGIN:DAYLIGHT
TZOFFSETFROM:+0100
TZOFFSETTO:+0200
TZNAME:CEST
DTSTART:20240331T010000
END:DAYLIGHT
BEGIN:STANDARD
TZOFFSETFROM:+0200
TZOFFSETTO:+0100
TZNAME:CET
DTSTART:20241027T010000
END:STANDARD
BEGIN:DAYLIGHT
TZOFFSETFROM:+0100
TZOFFSETTO:+0200
TZNAME:CEST
DTSTART:20250330T010000
END:DAYLIGHT
BEGIN:STANDARD
TZOFFSETFROM:+0200
TZOFFSETTO:+0100
TZNAME:CET
DTSTART:20251026T010000
END:STANDARD
BEGIN:DAYLIGHT
TZOFFSETFROM:+0100
TZOFFSETTO:+0200
TZNAME:CEST
DTSTART:20260329T010000
END:DAYLIGHT
BEGIN:STANDARD
TZOFFSETFROM:+0200
TZOFFSETTO:+0100
TZNAME:CET
DTSTART:20261025T010000
END:STANDARD
END:VTIMEZONE
BEGIN:VEVENT
DTSTART;VALUE=DATE:20250522
DTEND;VALUE=DATE:20250524
DTSTAMP:20260421T063938
CREATED:20241202T105319Z
LAST-MODIFIED:20241202T105502Z
UID:3190-1747872000-1748044799@www.orthopaedics.or.at
SUMMARY:EFAS Ankle degenerative arthritis\, Osteotomy\, Arthrodesis and Artroplasty
DESCRIPTION:Contact: charlotte.martin@mcocongres.com
URL:https://www.orthopaedics.or.at/event/efas-ankle-degenerative-arthritis-osteotomy-arthrodesis-and-artroplasty/
LOCATION:University of Copenhagen\, The PANUM Institute – Department of Anatomy\, Blegdamsvej 3B\, Kopenhagen\, 2200\, Denmark
END:VEVENT
BEGIN:VEVENT
DTSTART;VALUE=DATE:20250522
DTEND;VALUE=DATE:20250525
DTSTAMP:20260421T063938
CREATED:20250320T115949Z
LAST-MODIFIED:20250320T115949Z
UID:3265-1747872000-1748131199@www.orthopaedics.or.at
SUMMARY:31. Kongress der ÖSG
DESCRIPTION:„Schmerzmedizin am Limit – beyond algorithms“ \n>> Programm \n>> Anmeldung
URL:https://www.orthopaedics.or.at/event/31-kongress-der-oesg/
LOCATION:IMC FH Krems\, Am Campus Krems Trakt G1\, Krems an der Donau\, 3500\, Austria
END:VEVENT
END:VCALENDAR