BEGIN:VCALENDAR
VERSION:2.0
PRODID:-//ÖGO - ECPv6.15.18//NONSGML v1.0//EN
CALSCALE:GREGORIAN
METHOD:PUBLISH
X-WR-CALNAME:ÖGO
X-ORIGINAL-URL:https://www.orthopaedics.or.at
X-WR-CALDESC:Veranstaltungen für ÖGO
REFRESH-INTERVAL;VALUE=DURATION:PT1H
X-Robots-Tag:noindex
X-PUBLISHED-TTL:PT1H
BEGIN:VTIMEZONE
TZID:Europe/Vienna
BEGIN:DAYLIGHT
TZOFFSETFROM:+0100
TZOFFSETTO:+0200
TZNAME:CEST
DTSTART:20240331T010000
END:DAYLIGHT
BEGIN:STANDARD
TZOFFSETFROM:+0200
TZOFFSETTO:+0100
TZNAME:CET
DTSTART:20241027T010000
END:STANDARD
BEGIN:DAYLIGHT
TZOFFSETFROM:+0100
TZOFFSETTO:+0200
TZNAME:CEST
DTSTART:20250330T010000
END:DAYLIGHT
BEGIN:STANDARD
TZOFFSETFROM:+0200
TZOFFSETTO:+0100
TZNAME:CET
DTSTART:20251026T010000
END:STANDARD
BEGIN:DAYLIGHT
TZOFFSETFROM:+0100
TZOFFSETTO:+0200
TZNAME:CEST
DTSTART:20260329T010000
END:DAYLIGHT
BEGIN:STANDARD
TZOFFSETFROM:+0200
TZOFFSETTO:+0100
TZNAME:CET
DTSTART:20261025T010000
END:STANDARD
END:VTIMEZONE
BEGIN:VEVENT
DTSTART;VALUE=DATE:20251206
DTEND;VALUE=DATE:20251210
DTSTAMP:20260420T185307
CREATED:20250425T093624Z
LAST-MODIFIED:20250425T093624Z
UID:3307-1764979200-1765324799@www.orthopaedics.or.at
SUMMARY:AO Trauma Masters Course - Hand & Wrist
DESCRIPTION:>> Programm \n>> Anmeldung
URL:https://www.orthopaedics.or.at/event/ao-trauma-masters-course-hand-wrist/
LOCATION:Congress Center Davos\, Talstrasse 49a\, Davos Platz\, 7270\, Switzerland
END:VEVENT
BEGIN:VEVENT
DTSTART;TZID=Europe/Vienna:20251206T080000
DTEND;TZID=Europe/Vienna:20251206T163000
DTSTAMP:20260420T185307
CREATED:20251119T131901Z
LAST-MODIFIED:20251201T105218Z
UID:3375-1765008000-1765038600@www.orthopaedics.or.at
SUMMARY:BVdO-Jahrestagung 2025
DESCRIPTION:Stark aus der Mitte: Alles rund ums Hüftgelenk \n>> Informationen \n>> Programm \n>> Anmeldung
URL:https://www.orthopaedics.or.at/event/bvdo-jahrestagung-2025/
LOCATION:Haus der Ingenieure\, Eschenbachgasse 9 / 1. Stock\, Wien\, 1010
END:VEVENT
END:VCALENDAR