BEGIN:VCALENDAR
VERSION:2.0
PRODID:-//ÖGO - ECPv6.15.18//NONSGML v1.0//EN
CALSCALE:GREGORIAN
METHOD:PUBLISH
X-ORIGINAL-URL:https://www.orthopaedics.or.at
X-WR-CALDESC:Veranstaltungen für ÖGO
REFRESH-INTERVAL;VALUE=DURATION:PT1H
X-Robots-Tag:noindex
X-PUBLISHED-TTL:PT1H
BEGIN:VTIMEZONE
TZID:Europe/Vienna
BEGIN:DAYLIGHT
TZOFFSETFROM:+0100
TZOFFSETTO:+0200
TZNAME:CEST
DTSTART:20250330T010000
END:DAYLIGHT
BEGIN:STANDARD
TZOFFSETFROM:+0200
TZOFFSETTO:+0100
TZNAME:CET
DTSTART:20251026T010000
END:STANDARD
BEGIN:DAYLIGHT
TZOFFSETFROM:+0100
TZOFFSETTO:+0200
TZNAME:CEST
DTSTART:20260329T010000
END:DAYLIGHT
BEGIN:STANDARD
TZOFFSETFROM:+0200
TZOFFSETTO:+0100
TZNAME:CET
DTSTART:20261025T010000
END:STANDARD
BEGIN:DAYLIGHT
TZOFFSETFROM:+0100
TZOFFSETTO:+0200
TZNAME:CEST
DTSTART:20270328T010000
END:DAYLIGHT
BEGIN:STANDARD
TZOFFSETFROM:+0200
TZOFFSETTO:+0100
TZNAME:CET
DTSTART:20271031T010000
END:STANDARD
END:VTIMEZONE
BEGIN:VEVENT
DTSTART;VALUE=DATE:20260426
DTEND;VALUE=DATE:20260429
DTSTAMP:20260420T180134
CREATED:20250624T080231Z
LAST-MODIFIED:20250818T122611Z
UID:3338-1777161600-1777420799@www.orthopaedics.or.at
SUMMARY:25th European Congress of Trauma & Emergency Surgery and 8th Trauma World Congress
DESCRIPTION:“TEAM – Together Each Achieves More” \n>> Abstracteinreichung    Deadline Call for Abstract: 27. Oktober 2025 \n>> Programm \n>> Anmeldung \nFrühbucher-Deadline: 11. Januar 2026
URL:https://www.orthopaedics.or.at/event/25th-european-congress-of-trauma-emergency-surgery/
LOCATION:Kistamässan\, Arne Beurlings Torg 5\, Kista / Stockholm\, 164 40\, Sweden
END:VEVENT
END:VCALENDAR