BEGIN:VCALENDAR
VERSION:2.0
PRODID:-//ÖGO - ECPv6.15.18//NONSGML v1.0//EN
CALSCALE:GREGORIAN
METHOD:PUBLISH
X-ORIGINAL-URL:https://www.orthopaedics.or.at
X-WR-CALDESC:Veranstaltungen für ÖGO
REFRESH-INTERVAL;VALUE=DURATION:PT1H
X-Robots-Tag:noindex
X-PUBLISHED-TTL:PT1H
BEGIN:VTIMEZONE
TZID:Europe/Vienna
BEGIN:DAYLIGHT
TZOFFSETFROM:+0100
TZOFFSETTO:+0200
TZNAME:CEST
DTSTART:20250330T010000
END:DAYLIGHT
BEGIN:STANDARD
TZOFFSETFROM:+0200
TZOFFSETTO:+0100
TZNAME:CET
DTSTART:20251026T010000
END:STANDARD
BEGIN:DAYLIGHT
TZOFFSETFROM:+0100
TZOFFSETTO:+0200
TZNAME:CEST
DTSTART:20260329T010000
END:DAYLIGHT
BEGIN:STANDARD
TZOFFSETFROM:+0200
TZOFFSETTO:+0100
TZNAME:CET
DTSTART:20261025T010000
END:STANDARD
BEGIN:DAYLIGHT
TZOFFSETFROM:+0100
TZOFFSETTO:+0200
TZNAME:CEST
DTSTART:20270328T010000
END:DAYLIGHT
BEGIN:STANDARD
TZOFFSETFROM:+0200
TZOFFSETTO:+0100
TZNAME:CET
DTSTART:20271031T010000
END:STANDARD
END:VTIMEZONE
BEGIN:VEVENT
DTSTART;VALUE=DATE:20261008
DTEND;VALUE=DATE:20261011
DTSTAMP:20260421T002638
CREATED:20260223T084724Z
LAST-MODIFIED:20260223T084934Z
UID:3466-1791417600-1791676799@www.orthopaedics.or.at
SUMMARY:ISHA Annual Scientific Meeting 2026
DESCRIPTION:>> Programm \n>> Abstract submissions \n>> Anmeldung
URL:https://www.orthopaedics.or.at/event/isha-annual-scientific-meeting-2026/
LOCATION:Bruges Meeting and Convention Centre (BMCC)\, Sint-Maartensbilk 1\, Brugge\, 8000\, Belgium
END:VEVENT
BEGIN:VEVENT
DTSTART;VALUE=DATE:20261010
DTEND;VALUE=DATE:20261011
DTSTAMP:20260421T002638
CREATED:20250423T081446Z
LAST-MODIFIED:20250423T081446Z
UID:3298-1791590400-1791676799@www.orthopaedics.or.at
SUMMARY:II. Speisinger Physio-Symposium
DESCRIPTION:https://www.oss.at/fuer-aerzte/veranstaltungen/i-speisinger-physio-symposium
URL:https://www.orthopaedics.or.at/event/ii-speisinger-physio-symposium/
LOCATION:Orthopädisches Spital Speising\, Speisinger Straße 109\, Wien\, 1130
END:VEVENT
END:VCALENDAR