BEGIN:VCALENDAR
VERSION:2.0
PRODID:-//ÖGO - ECPv6.15.18//NONSGML v1.0//EN
CALSCALE:GREGORIAN
METHOD:PUBLISH
X-ORIGINAL-URL:https://www.orthopaedics.or.at
X-WR-CALDESC:Veranstaltungen für ÖGO
REFRESH-INTERVAL;VALUE=DURATION:PT1H
X-Robots-Tag:noindex
X-PUBLISHED-TTL:PT1H
BEGIN:VTIMEZONE
TZID:Europe/Vienna
BEGIN:DAYLIGHT
TZOFFSETFROM:+0100
TZOFFSETTO:+0200
TZNAME:CEST
DTSTART:20210328T010000
END:DAYLIGHT
BEGIN:STANDARD
TZOFFSETFROM:+0200
TZOFFSETTO:+0100
TZNAME:CET
DTSTART:20211031T010000
END:STANDARD
BEGIN:DAYLIGHT
TZOFFSETFROM:+0100
TZOFFSETTO:+0200
TZNAME:CEST
DTSTART:20220327T010000
END:DAYLIGHT
BEGIN:STANDARD
TZOFFSETFROM:+0200
TZOFFSETTO:+0100
TZNAME:CET
DTSTART:20221030T010000
END:STANDARD
BEGIN:DAYLIGHT
TZOFFSETFROM:+0100
TZOFFSETTO:+0200
TZNAME:CEST
DTSTART:20230326T010000
END:DAYLIGHT
BEGIN:STANDARD
TZOFFSETFROM:+0200
TZOFFSETTO:+0100
TZNAME:CET
DTSTART:20231029T010000
END:STANDARD
END:VTIMEZONE
BEGIN:VEVENT
DTSTART;VALUE=DATE:20220603
DTEND;VALUE=DATE:20220604
DTSTAMP:20260423T124040
CREATED:20220221T085113Z
LAST-MODIFIED:20220221T085538Z
UID:2021-1654214400-1654300799@www.orthopaedics.or.at
SUMMARY:Kinderhand-Symposium: Traumafolgen an der kindlichen oberen Extremität
DESCRIPTION:>> Download Flyer \nNähere Informationen und Anmeldemöglichkeit finden Sie ab Mitte März 2022 auf der Website oss.at/events. \nRückfragen richten Sie bitte via E-Mail an events@oss.at oder telefonisch an T: +43 1 801 82-1762. \nDie Veranstaltung wird für das DFP-Fortbildungsprogramm der österreichischen Ärztekammer zur Approbation eingereicht.
URL:https://www.orthopaedics.or.at/event/kinderhand-symposium-traumafolgen-an-der-kindlichen-oberen-extremitaet/
LOCATION:Orthopädisches Spital Speising\, Speisinger Straße 109\, Wien\, 1130
END:VEVENT
BEGIN:VEVENT
DTSTART;TZID=Europe/Vienna:20220622T190000
DTEND;TZID=Europe/Vienna:20220622T200000
DTSTAMP:20260423T124040
CREATED:20220608T071825Z
LAST-MODIFIED:20220608T071825Z
UID:2207-1655924400-1655928000@www.orthopaedics.or.at
SUMMARY:GOTS-Webinar: Wirbelsäule und Sport
DESCRIPTION:>> Programm \n>> Anmeldung \n 
URL:https://www.orthopaedics.or.at/event/gots-webinar-wirbelsaeule-und-sport/
LOCATION:Webinar
END:VEVENT
BEGIN:VEVENT
DTSTART;VALUE=DATE:20220624
DTEND;VALUE=DATE:20220626
DTSTAMP:20260423T124040
CREATED:20210708T101700Z
LAST-MODIFIED:20220623T081632Z
UID:1851-1656028800-1656201599@www.orthopaedics.or.at
SUMMARY:ÖGO-Ausbildungsseminar „Konservative Orthopädie und Rehabilitation“
DESCRIPTION:>> Programm \n>> Anmeldung
URL:https://www.orthopaedics.or.at/event/oego-ausbildungsseminar-konservative-orthopaedie-und-rehabilitation/
LOCATION:Orthopädisches Spital Speising\, Speisinger Straße 109\, Wien\, 1130
CATEGORIES:OEGO-Veranstaltungen
ATTACH;FMTTYPE=image/jpeg:https://www.orthopaedics.or.at/wp-content/uploads/2020/04/Logo4c_pfad_termin.jpg
END:VEVENT
END:VCALENDAR