BEGIN:VCALENDAR
VERSION:2.0
PRODID:-//ÖGO - ECPv6.15.18//NONSGML v1.0//EN
CALSCALE:GREGORIAN
METHOD:PUBLISH
X-ORIGINAL-URL:https://www.orthopaedics.or.at
X-WR-CALDESC:Veranstaltungen für ÖGO
REFRESH-INTERVAL;VALUE=DURATION:PT1H
X-Robots-Tag:noindex
X-PUBLISHED-TTL:PT1H
BEGIN:VTIMEZONE
TZID:Europe/Vienna
BEGIN:DAYLIGHT
TZOFFSETFROM:+0100
TZOFFSETTO:+0200
TZNAME:CEST
DTSTART:20220327T010000
END:DAYLIGHT
BEGIN:STANDARD
TZOFFSETFROM:+0200
TZOFFSETTO:+0100
TZNAME:CET
DTSTART:20221030T010000
END:STANDARD
BEGIN:DAYLIGHT
TZOFFSETFROM:+0100
TZOFFSETTO:+0200
TZNAME:CEST
DTSTART:20230326T010000
END:DAYLIGHT
BEGIN:STANDARD
TZOFFSETFROM:+0200
TZOFFSETTO:+0100
TZNAME:CET
DTSTART:20231029T010000
END:STANDARD
BEGIN:DAYLIGHT
TZOFFSETFROM:+0100
TZOFFSETTO:+0200
TZNAME:CEST
DTSTART:20240331T010000
END:DAYLIGHT
BEGIN:STANDARD
TZOFFSETFROM:+0200
TZOFFSETTO:+0100
TZNAME:CET
DTSTART:20241027T010000
END:STANDARD
END:VTIMEZONE
BEGIN:VEVENT
DTSTART;TZID=Europe/Vienna:20230301T190000
DTEND;TZID=Europe/Vienna:20230301T200000
DTSTAMP:20260422T214232
CREATED:20230131T102143Z
LAST-MODIFIED:20230131T102143Z
UID:2442-1677697200-1677700800@www.orthopaedics.or.at
SUMMARY:GOTS-Webinar: Sport bei Endoprothese - was geht noch?
DESCRIPTION:>> Information \n>> Anmeldung
URL:https://www.orthopaedics.or.at/event/gots-webinar-sport-bei-endoprothese-was-geht-noch/
LOCATION:Webinar
END:VEVENT
BEGIN:VEVENT
DTSTART;VALUE=DATE:20230307
DTEND;VALUE=DATE:20230312
DTSTAMP:20260422T214232
CREATED:20200526T085845Z
LAST-MODIFIED:20221129T102003Z
UID:1337-1678147200-1678579199@www.orthopaedics.or.at
SUMMARY:AAOS Annual Meeting 2023
DESCRIPTION:
URL:https://www.orthopaedics.or.at/event/aaos-annual-meeting-2023/
LOCATION:Venetian Convention & Expo Center\, 201 Sands Ave\, Las Vegas\, Nevada\, 89169
END:VEVENT
BEGIN:VEVENT
DTSTART;TZID=Europe/Vienna:20230327T190000
DTEND;TZID=Europe/Vienna:20230327T200000
DTSTAMP:20260422T214232
CREATED:20230320T084301Z
LAST-MODIFIED:20230320T084301Z
UID:2476-1679943600-1679947200@www.orthopaedics.or.at
SUMMARY:EFORT Free-of-charge Webinar: Lower Limb Deformity Correction
DESCRIPTION:>> Programm und Registrierung
URL:https://www.orthopaedics.or.at/event/efort-free-of-charge-webinar-lower-limb-deformity-correction/
LOCATION:Webinar
END:VEVENT
BEGIN:VEVENT
DTSTART;VALUE=DATE:20230329
DTEND;VALUE=DATE:20230402
DTSTAMP:20260422T214232
CREATED:20221201T084528Z
LAST-MODIFIED:20221201T084528Z
UID:2368-1680048000-1680393599@www.orthopaedics.or.at
SUMMARY:EPOS 41st Annual Meeting Krakow 2023
DESCRIPTION:>> Programm \n>> Anmeldung
URL:https://www.orthopaedics.or.at/event/epos-41st-annual-meeting-krakow-2023/
LOCATION:ICE Kraków Congress Centre\, 17\, Marii Konopnickiej\, Krakau\, 30-302\, Polen
END:VEVENT
END:VCALENDAR