BEGIN:VCALENDAR
VERSION:2.0
PRODID:-//ÖGO - ECPv6.15.18//NONSGML v1.0//EN
CALSCALE:GREGORIAN
METHOD:PUBLISH
X-ORIGINAL-URL:https://www.orthopaedics.or.at
X-WR-CALDESC:Veranstaltungen für ÖGO
REFRESH-INTERVAL;VALUE=DURATION:PT1H
X-Robots-Tag:noindex
X-PUBLISHED-TTL:PT1H
BEGIN:VTIMEZONE
TZID:Europe/Vienna
BEGIN:DAYLIGHT
TZOFFSETFROM:+0100
TZOFFSETTO:+0200
TZNAME:CEST
DTSTART:20220327T010000
END:DAYLIGHT
BEGIN:STANDARD
TZOFFSETFROM:+0200
TZOFFSETTO:+0100
TZNAME:CET
DTSTART:20221030T010000
END:STANDARD
BEGIN:DAYLIGHT
TZOFFSETFROM:+0100
TZOFFSETTO:+0200
TZNAME:CEST
DTSTART:20230326T010000
END:DAYLIGHT
BEGIN:STANDARD
TZOFFSETFROM:+0200
TZOFFSETTO:+0100
TZNAME:CET
DTSTART:20231029T010000
END:STANDARD
BEGIN:DAYLIGHT
TZOFFSETFROM:+0100
TZOFFSETTO:+0200
TZNAME:CEST
DTSTART:20240331T010000
END:DAYLIGHT
BEGIN:STANDARD
TZOFFSETFROM:+0200
TZOFFSETTO:+0100
TZNAME:CET
DTSTART:20241027T010000
END:STANDARD
END:VTIMEZONE
BEGIN:VEVENT
DTSTART;VALUE=DATE:20230909
DTEND;VALUE=DATE:20230913
DTSTAMP:20260422T122005
CREATED:20221201T092241Z
LAST-MODIFIED:20221201T092241Z
UID:2391-1694217600-1694563199@www.orthopaedics.or.at
SUMMARY:17th World Congress ICRS 2023 – Time for Action
DESCRIPTION:>> Programm \n>> Anmeldung
URL:https://www.orthopaedics.or.at/event/17th-world-congress-icrs-2023-time-for-action/
LOCATION:Hotel Melia Sitges\, Carrer de Joan Salvat Papasseit\, 38\, Sitges\, Barcelona\, 08870\, Spanien
END:VEVENT
BEGIN:VEVENT
DTSTART;VALUE=DATE:20230914
DTEND;VALUE=DATE:20230917
DTSTAMP:20260422T122005
CREATED:20221201T095754Z
LAST-MODIFIED:20221201T095754Z
UID:2411-1694649600-1694908799@www.orthopaedics.or.at
SUMMARY:40. AGA-Kongress
DESCRIPTION:
URL:https://www.orthopaedics.or.at/event/40-aga-kongress/
LOCATION:Estrel Convention Center\, Sonnenallee 225\, Berlin\, 12057
END:VEVENT
BEGIN:VEVENT
DTSTART;VALUE=DATE:20230921
DTEND;VALUE=DATE:20230922
DTSTAMP:20260422T122005
CREATED:20230605T074526Z
LAST-MODIFIED:20230605T075026Z
UID:2558-1695254400-1695340799@www.orthopaedics.or.at
SUMMARY:Hands on Hands Vienna 2023: Endoprothetik an Hand und Fingern
DESCRIPTION:Vom Swansonspacer bis zur Handgelenksprothese \n>> Programm \n>> Anmeldung
URL:https://www.orthopaedics.or.at/event/hands-on-hands-vienna-2023-endoprothetik-an-hand-und-fingern/
LOCATION:Orthopädisches Spital Speising\, Speisinger Straße 109\, Wien\, 1130
END:VEVENT
BEGIN:VEVENT
DTSTART;VALUE=DATE:20230922
DTEND;VALUE=DATE:20230925
DTSTAMP:20260422T122005
CREATED:20230706T105138Z
LAST-MODIFIED:20230706T105138Z
UID:2579-1695340800-1695599999@www.orthopaedics.or.at
SUMMARY:8th Athens Elbow Course
DESCRIPTION:>> Programm \n>> Anmeldung
URL:https://www.orthopaedics.or.at/event/8th-athens-elbow-course/
LOCATION:Athen
END:VEVENT
BEGIN:VEVENT
DTSTART;VALUE=DATE:20230922
DTEND;VALUE=DATE:20230924
DTSTAMP:20260422T122005
CREATED:20230731T090809Z
LAST-MODIFIED:20230731T090809Z
UID:2587-1695340800-1695513599@www.orthopaedics.or.at
SUMMARY:AE-Masterkurs Knie
DESCRIPTION:>> Programm \n>> Anmeldung
URL:https://www.orthopaedics.or.at/event/ae-masterkurs-knie/
LOCATION:Medizinische Fakultät der JKU Linz\, Krankenhausstraße 5\, Linz\, 5020
END:VEVENT
END:VCALENDAR