BEGIN:VCALENDAR
VERSION:2.0
PRODID:-//ÖGO - ECPv6.15.18//NONSGML v1.0//EN
CALSCALE:GREGORIAN
METHOD:PUBLISH
X-ORIGINAL-URL:https://www.orthopaedics.or.at
X-WR-CALDESC:Veranstaltungen für ÖGO
REFRESH-INTERVAL;VALUE=DURATION:PT1H
X-Robots-Tag:noindex
X-PUBLISHED-TTL:PT1H
BEGIN:VTIMEZONE
TZID:Europe/Vienna
BEGIN:DAYLIGHT
TZOFFSETFROM:+0100
TZOFFSETTO:+0200
TZNAME:CEST
DTSTART:20220327T010000
END:DAYLIGHT
BEGIN:STANDARD
TZOFFSETFROM:+0200
TZOFFSETTO:+0100
TZNAME:CET
DTSTART:20221030T010000
END:STANDARD
BEGIN:DAYLIGHT
TZOFFSETFROM:+0100
TZOFFSETTO:+0200
TZNAME:CEST
DTSTART:20230326T010000
END:DAYLIGHT
BEGIN:STANDARD
TZOFFSETFROM:+0200
TZOFFSETTO:+0100
TZNAME:CET
DTSTART:20231029T010000
END:STANDARD
BEGIN:DAYLIGHT
TZOFFSETFROM:+0100
TZOFFSETTO:+0200
TZNAME:CEST
DTSTART:20240331T010000
END:DAYLIGHT
BEGIN:STANDARD
TZOFFSETFROM:+0200
TZOFFSETTO:+0100
TZNAME:CET
DTSTART:20241027T010000
END:STANDARD
END:VTIMEZONE
BEGIN:VEVENT
DTSTART;VALUE=DATE:20231004
DTEND;VALUE=DATE:20231007
DTSTAMP:20260422T104403
CREATED:20200526T090258Z
LAST-MODIFIED:20200526T090258Z
UID:1343-1696377600-1696636799@www.orthopaedics.or.at
SUMMARY:EUROSPINE 2023
DESCRIPTION:
URL:https://www.orthopaedics.or.at/event/eurospine-2023/
LOCATION:EUROSPINE 2023\, Ludwig-Erhard-Anlage 1\, Frankfurt am Main\, 60327\, Deutschland
END:VEVENT
BEGIN:VEVENT
DTSTART;VALUE=DATE:20231012
DTEND;VALUE=DATE:20231015
DTSTAMP:20260422T104403
CREATED:20221201T092829Z
LAST-MODIFIED:20221201T092829Z
UID:2395-1697068800-1697327999@www.orthopaedics.or.at
SUMMARY:EBJIS 41st Annual meeting Basel 2023
DESCRIPTION:Anmeldungen ab Jänner 2023
URL:https://www.orthopaedics.or.at/event/ebjis-41st-annual-meeting-basel-2023/
LOCATION:Congress Center Basel\, Messeplatz 21\, Basel\, 4058\, Schweiz
END:VEVENT
BEGIN:VEVENT
DTSTART;VALUE=DATE:20231018
DTEND;VALUE=DATE:20231022
DTSTAMP:20260422T104403
CREATED:20200526T090628Z
LAST-MODIFIED:20200526T090628Z
UID:1346-1697587200-1697932799@www.orthopaedics.or.at
SUMMARY:OTA Annual Meeting 2023
DESCRIPTION:
URL:https://www.orthopaedics.or.at/event/ota-annual-meeting-2023/
LOCATION:OTA 2023\, Seattle\, Vereinigte Staaten
END:VEVENT
BEGIN:VEVENT
DTSTART;VALUE=DATE:20231020
DTEND;VALUE=DATE:20231022
DTSTAMP:20260422T104403
CREATED:20230801T141630Z
LAST-MODIFIED:20230801T141909Z
UID:2597-1697760000-1697932799@www.orthopaedics.or.at
SUMMARY:ÖGO-Ausbildungsseminar "Sportorthopädie"
DESCRIPTION:>> Programm folgt \n>> Anmeldung folgt
URL:https://www.orthopaedics.or.at/event/oego-ausbildungsseminar-sportorthopaedie/
LOCATION:Graz
CATEGORIES:OEGO-Veranstaltungen
ATTACH;FMTTYPE=image/jpeg:https://www.orthopaedics.or.at/wp-content/uploads/2020/04/Logo4c_pfad_termin.jpg
END:VEVENT
BEGIN:VEVENT
DTSTART;TZID=Europe/Vienna:20231020T150000
DTEND;TZID=Europe/Vienna:20231020T190000
DTSTAMP:20260422T104403
CREATED:20230201T083853Z
LAST-MODIFIED:20230201T083853Z
UID:2448-1697814000-1697828400@www.orthopaedics.or.at
SUMMARY:NÖ Gelenkspunktions- und Infiltrationskurs - Teil 2
DESCRIPTION:>> Folder \n>> Anmeldung
URL:https://www.orthopaedics.or.at/event/noe-gelenkspunktions-und-infiltrationskurs-teil-2-2/
LOCATION:Klinisches Institut für Pathologie am Universitätsklinikum St. Pölten\, Dunant-Platz 1\, St. Pölten\, 3100\, Österreich
END:VEVENT
BEGIN:VEVENT
DTSTART;VALUE=DATE:20231024
DTEND;VALUE=DATE:20231028
DTSTAMP:20260422T104403
CREATED:20221201T101103Z
LAST-MODIFIED:20221201T101103Z
UID:2418-1698105600-1698451199@www.orthopaedics.or.at
SUMMARY:DKOU 2023: Kompetent in Qualität und Fortschritt
DESCRIPTION:
URL:https://www.orthopaedics.or.at/event/dkou-2023-kompetent-in-qualitaet-und-fortschritt/
LOCATION:Berlin\, Berlin\, Deutschland
END:VEVENT
BEGIN:VEVENT
DTSTART;VALUE=DATE:20231031
DTEND;VALUE=DATE:20231106
DTSTAMP:20260422T104403
CREATED:20221201T093137Z
LAST-MODIFIED:20221201T093137Z
UID:2398-1698710400-1699228799@www.orthopaedics.or.at
SUMMARY:32nd National Congress of the Turkish Orthopaedics and Traumatology Society – TOTBID 2023
DESCRIPTION:
URL:https://www.orthopaedics.or.at/event/32nd-national-congress-of-the-turkish-orthopaedics-and-traumatology-society-totbid-2023/
LOCATION:Antalya
END:VEVENT
END:VCALENDAR