BEGIN:VCALENDAR
VERSION:2.0
PRODID:-//ÖGO - ECPv6.15.18//NONSGML v1.0//EN
CALSCALE:GREGORIAN
METHOD:PUBLISH
X-ORIGINAL-URL:https://www.orthopaedics.or.at
X-WR-CALDESC:Veranstaltungen für ÖGO
REFRESH-INTERVAL;VALUE=DURATION:PT1H
X-Robots-Tag:noindex
X-PUBLISHED-TTL:PT1H
BEGIN:VTIMEZONE
TZID:Europe/Vienna
BEGIN:DAYLIGHT
TZOFFSETFROM:+0100
TZOFFSETTO:+0200
TZNAME:CEST
DTSTART:20220327T010000
END:DAYLIGHT
BEGIN:STANDARD
TZOFFSETFROM:+0200
TZOFFSETTO:+0100
TZNAME:CET
DTSTART:20221030T010000
END:STANDARD
BEGIN:DAYLIGHT
TZOFFSETFROM:+0100
TZOFFSETTO:+0200
TZNAME:CEST
DTSTART:20230326T010000
END:DAYLIGHT
BEGIN:STANDARD
TZOFFSETFROM:+0200
TZOFFSETTO:+0100
TZNAME:CET
DTSTART:20231029T010000
END:STANDARD
BEGIN:DAYLIGHT
TZOFFSETFROM:+0100
TZOFFSETTO:+0200
TZNAME:CEST
DTSTART:20240331T010000
END:DAYLIGHT
BEGIN:STANDARD
TZOFFSETFROM:+0200
TZOFFSETTO:+0100
TZNAME:CET
DTSTART:20241027T010000
END:STANDARD
END:VTIMEZONE
BEGIN:VEVENT
DTSTART;VALUE=DATE:20231031
DTEND;VALUE=DATE:20231106
DTSTAMP:20260420T112850
CREATED:20221201T093137Z
LAST-MODIFIED:20221201T093137Z
UID:2398-1698710400-1699228799@www.orthopaedics.or.at
SUMMARY:32nd National Congress of the Turkish Orthopaedics and Traumatology Society – TOTBID 2023
DESCRIPTION:
URL:https://www.orthopaedics.or.at/event/32nd-national-congress-of-the-turkish-orthopaedics-and-traumatology-society-totbid-2023/
LOCATION:Antalya
END:VEVENT
BEGIN:VEVENT
DTSTART;VALUE=DATE:20231103
DTEND;VALUE=DATE:20231105
DTSTAMP:20260420T112850
CREATED:20230801T141911Z
LAST-MODIFIED:20231023T113142Z
UID:2600-1698969600-1699142399@www.orthopaedics.or.at
SUMMARY:ABGESAGT: ÖGO-Ausbildungsseminar "Konservative Orthopädie/ESWT"
DESCRIPTION:Das Ausbildungsseminar wird aufgrund einer zu geringen Teilnehmerzahl auf 2024 verschoben. \nDer neue Termin wird sobald er feststeht bekanntgegeben. \n>> Programm \n 
URL:https://www.orthopaedics.or.at/event/oego-ausbildungsseminar-konservative-orthopaedie-eswt/
LOCATION:Wien
CATEGORIES:OEGO-Veranstaltungen
ATTACH;FMTTYPE=image/jpeg:https://www.orthopaedics.or.at/wp-content/uploads/2020/04/Logo4c_pfad_termin.jpg
END:VEVENT
BEGIN:VEVENT
DTSTART;VALUE=DATE:20231110
DTEND;VALUE=DATE:20231112
DTSTAMP:20260420T112850
CREATED:20221220T140501Z
LAST-MODIFIED:20221220T140501Z
UID:2426-1699574400-1699747199@www.orthopaedics.or.at
SUMMARY:Jahrestagung der Internationalen Vereinigung für Neuroorthopädie 2023
DESCRIPTION:
URL:https://www.orthopaedics.or.at/event/jahrestagung-der-internationalen-vereinigung-fuer-neuroorthopaedie-2023/
LOCATION:Salzburg\, Österreich
END:VEVENT
BEGIN:VEVENT
DTSTART;VALUE=DATE:20231115
DTEND;VALUE=DATE:20231118
DTSTAMP:20260420T112850
CREATED:20230925T115911Z
LAST-MODIFIED:20230925T115911Z
UID:2651-1700006400-1700265599@www.orthopaedics.or.at
SUMMARY:7th EPOS BAT Instructional Course Trilogy - Part III
DESCRIPTION:>> Programm \n>> Anmeldung
URL:https://www.orthopaedics.or.at/event/7th-epos-bat-instructional-course-trilogy-part-iii/
LOCATION:Orthopädisches Spital Speising\, Speisinger Straße 109\, Wien\, 1130
END:VEVENT
BEGIN:VEVENT
DTSTART;VALUE=DATE:20231121
DTEND;VALUE=DATE:20231124
DTSTAMP:20260420T112850
CREATED:20221201T100441Z
LAST-MODIFIED:20221201T100441Z
UID:2414-1700524800-1700783999@www.orthopaedics.or.at
SUMMARY:43rd SICOT Orthopaedic World Congress & 74th EOA Annual Meeting
DESCRIPTION:
URL:https://www.orthopaedics.or.at/event/43rd-sicot-orthopaedic-world-congress-74th-eoa-annual-meeting/
LOCATION:Kairo\, Ägypten
END:VEVENT
BEGIN:VEVENT
DTSTART;VALUE=DATE:20231123
DTEND;VALUE=DATE:20231124
DTSTAMP:20260420T112850
CREATED:20231013T094412Z
LAST-MODIFIED:20231013T094412Z
UID:2749-1700697600-1700783999@www.orthopaedics.or.at
SUMMARY:Ultraschallgezielte Infiltrationen: Wirbelsäule und große Gelenke
DESCRIPTION:>> Information\, Programm und Anmeldung
URL:https://www.orthopaedics.or.at/event/ultraschallgezielte-infiltrationen-wirbelsaeule-und-grosse-gelenke-2/
LOCATION:Orthopädisches Spital Speising\, Speisinger Straße 109\, Wien\, 1130
END:VEVENT
BEGIN:VEVENT
DTSTART;VALUE=DATE:20231124
DTEND;VALUE=DATE:20231126
DTSTAMP:20260420T112850
CREATED:20221220T140713Z
LAST-MODIFIED:20221220T140801Z
UID:2429-1700784000-1700956799@www.orthopaedics.or.at
SUMMARY:Jahrestagung der ISPO International Society For Prosthetics And Orthotics Austria 2023
DESCRIPTION:
URL:https://www.orthopaedics.or.at/event/jahrestagung-der-ispo-international-society-for-prosthetics-and-orthotics-austria-2023/
LOCATION:Salzburg\, Österreich
END:VEVENT
BEGIN:VEVENT
DTSTART;VALUE=DATE:20231124
DTEND;VALUE=DATE:20231125
DTSTAMP:20260420T112850
CREATED:20230420T113547Z
LAST-MODIFIED:20230420T113547Z
UID:2511-1700784000-1700870399@www.orthopaedics.or.at
SUMMARY:GOTS Schulter + Ellenbogenkurs
DESCRIPTION:>> Flyer
URL:https://www.orthopaedics.or.at/event/gots-schulter-ellenbogenkurs/
LOCATION:Wetlab\, UKH Linz
END:VEVENT
BEGIN:VEVENT
DTSTART;VALUE=DATE:20231124
DTEND;VALUE=DATE:20231126
DTSTAMP:20260420T112850
CREATED:20230801T142203Z
LAST-MODIFIED:20231121T105321Z
UID:2604-1700784000-1700956799@www.orthopaedics.or.at
SUMMARY:ABGESAGT: ÖGO-Ausbildungsseminar "Tumororthopädie"
DESCRIPTION:Das Ausbildungsseminar wird auf 2024 verschoben. \nNeuer Termin wird noch bekannt gegeben.
URL:https://www.orthopaedics.or.at/event/oego-ausbildungsseminar-tumororthopaedie-2/
LOCATION:Wien
CATEGORIES:OEGO-Veranstaltungen
ATTACH;FMTTYPE=image/jpeg:https://www.orthopaedics.or.at/wp-content/uploads/2020/04/Logo4c_pfad_termin.jpg
END:VEVENT
BEGIN:VEVENT
DTSTART;VALUE=DATE:20231124
DTEND;VALUE=DATE:20231125
DTSTAMP:20260420T112850
CREATED:20231013T094140Z
LAST-MODIFIED:20231013T094140Z
UID:2745-1700784000-1700870399@www.orthopaedics.or.at
SUMMARY:Röntgengezielte Schmerztherapie: Basiskurs an der Lendenwirbelsäule
DESCRIPTION:>> Information\, Programm und Anmeldung
URL:https://www.orthopaedics.or.at/event/roentgengezielte-schmerztherapie-basiskurs-an-der-lendenwirbelsaeule/
LOCATION:Orthopädisches Spital Speising\, Speisinger Straße 109\, Wien\, 1130
END:VEVENT
BEGIN:VEVENT
DTSTART;TZID=Europe/Vienna:20231124T130000
DTEND;TZID=Europe/Vienna:20231124T173000
DTSTAMP:20260420T112850
CREATED:20231025T100620Z
LAST-MODIFIED:20231025T100732Z
UID:2763-1700830800-1700847000@www.orthopaedics.or.at
SUMMARY:ÖGF Wintertagung 2023: Das kleine Fuß-Übel
DESCRIPTION:>> Programm \n>> Anmeldung
URL:https://www.orthopaedics.or.at/event/oegf-wintertagung-2023-das-kleine-fuss-uebel/
LOCATION:Tagungszentrum Schönbrunn Apothekertrakt\, Schloß Schönbrunn\, Wien\, 1130\, Österreich
END:VEVENT
BEGIN:VEVENT
DTSTART;VALUE=DATE:20231129
DTEND;VALUE=DATE:20231202
DTSTAMP:20260420T112850
CREATED:20230329T070750Z
LAST-MODIFIED:20231108T103048Z
UID:2492-1701216000-1701475199@www.orthopaedics.or.at
SUMMARY:18. Jahrestagung der Deutschen Wirbelsäulengesellschaft (DWG)
DESCRIPTION:>> Programm \n>> Anmeldung \n  \nIm Rahmen der Jahrestagung finden auch noch folgende Veranstaltungen statt: \n\n11. Pflegetagung der DWG\nDonnerstag\, 30. November 2023\, 09:00–16:00 Uhr\n>> Programm\n\n\nTherapeutentag\nFreitag\, 1. Dezember 2023\, 08:45–15:45 Uhr\n>> Programm
URL:https://www.orthopaedics.or.at/event/18-jahrestagung-der-deutschen-wirbelsaeulengesellschaft-dwg/
LOCATION:Internationales Congresscenter Stuttgart\, Messepiazza 1 \, Stuttgart \, 70629
END:VEVENT
END:VCALENDAR