BEGIN:VCALENDAR
VERSION:2.0
PRODID:-//ÖGO - ECPv6.15.18//NONSGML v1.0//EN
CALSCALE:GREGORIAN
METHOD:PUBLISH
X-WR-CALNAME:ÖGO
X-ORIGINAL-URL:https://www.orthopaedics.or.at
X-WR-CALDESC:Veranstaltungen für ÖGO
REFRESH-INTERVAL;VALUE=DURATION:PT1H
X-Robots-Tag:noindex
X-PUBLISHED-TTL:PT1H
BEGIN:VTIMEZONE
TZID:Europe/Vienna
BEGIN:DAYLIGHT
TZOFFSETFROM:+0100
TZOFFSETTO:+0200
TZNAME:CEST
DTSTART:20230326T010000
END:DAYLIGHT
BEGIN:STANDARD
TZOFFSETFROM:+0200
TZOFFSETTO:+0100
TZNAME:CET
DTSTART:20231029T010000
END:STANDARD
BEGIN:DAYLIGHT
TZOFFSETFROM:+0100
TZOFFSETTO:+0200
TZNAME:CEST
DTSTART:20240331T010000
END:DAYLIGHT
BEGIN:STANDARD
TZOFFSETFROM:+0200
TZOFFSETTO:+0100
TZNAME:CET
DTSTART:20241027T010000
END:STANDARD
BEGIN:DAYLIGHT
TZOFFSETFROM:+0100
TZOFFSETTO:+0200
TZNAME:CEST
DTSTART:20250330T010000
END:DAYLIGHT
BEGIN:STANDARD
TZOFFSETFROM:+0200
TZOFFSETTO:+0100
TZNAME:CET
DTSTART:20251026T010000
END:STANDARD
END:VTIMEZONE
BEGIN:VEVENT
DTSTART;VALUE=DATE:20240131
DTEND;VALUE=DATE:20240202
DTSTAMP:20260421T065943
CREATED:20230925T113545Z
LAST-MODIFIED:20230925T113704Z
UID:2633-1706659200-1706831999@www.orthopaedics.or.at
SUMMARY:43rd Annual Meeting of the Israel Orthopaedic Association – IOA 2024
DESCRIPTION:>> Information
URL:https://www.orthopaedics.or.at/event/43rd-annual-meeting-of-the-israel-orthopaedic-association-ioa-2024/
LOCATION:Hilton Hotel\, Tel Aviv\, Israel
END:VEVENT
BEGIN:VEVENT
DTSTART;TZID=Europe/Vienna:20240201T190000
DTEND;TZID=Europe/Vienna:20240201T200000
DTSTAMP:20260421T065943
CREATED:20240119T114232Z
LAST-MODIFIED:20240119T114232Z
UID:2862-1706814000-1706817600@www.orthopaedics.or.at
SUMMARY:Infoveranstaltung zum Studium Sportmedizin\, MSc (CE)
DESCRIPTION:>> Flyer \n>> Informationen zum Studium \n>> Anmeldung
URL:https://www.orthopaedics.or.at/event/infoveranstaltung-zum-studium-sportmedizin-msc-ce/
LOCATION:Online\, Österreich
END:VEVENT
BEGIN:VEVENT
DTSTART;VALUE=DATE:20240207
DTEND;VALUE=DATE:20240211
DTSTAMP:20260421T065943
CREATED:20240119T120016Z
LAST-MODIFIED:20240119T120016Z
UID:2868-1707264000-1707609599@www.orthopaedics.or.at
SUMMARY:6.  Athens Shoulder Course
DESCRIPTION:>> Programm \n>> Anmeldung unter  info@concopco.com
URL:https://www.orthopaedics.or.at/event/6-athens-shoulder-course/
LOCATION:Athen
END:VEVENT
BEGIN:VEVENT
DTSTART;VALUE=DATE:20240208
DTEND;VALUE=DATE:20240210
DTSTAMP:20260421T065943
CREATED:20230925T114117Z
LAST-MODIFIED:20230925T114117Z
UID:2638-1707350400-1707523199@www.orthopaedics.or.at
SUMMARY:Hands-on Specimen Course - Advanced Techniques & Surgical Skills
DESCRIPTION:>> Programm \n>> Anmeldung
URL:https://www.orthopaedics.or.at/event/hands-on-specimen-course-advanced-techniques-surgical-skills/
LOCATION:Paracelsus Medizinische Privatuniversität\, Strubergasse 21 Haus D\, Salzburg\, 5020\, Österreich
END:VEVENT
BEGIN:VEVENT
DTSTART;VALUE=DATE:20240208
DTEND;VALUE=DATE:20240211
DTSTAMP:20260421T065943
CREATED:20231025T101624Z
LAST-MODIFIED:20231025T101755Z
UID:2769-1707350400-1707609599@www.orthopaedics.or.at
SUMMARY:NOUV 17. Endoprothetikkongress
DESCRIPTION:>> Programm \n>> Anmeldung
URL:https://www.orthopaedics.or.at/event/17-endoprothetikkongress/
LOCATION:Langenbeck-Virchow-Haus Berlin\, Luisenstraße 58/59\, Berlin\, 10117\, Deutschland
END:VEVENT
BEGIN:VEVENT
DTSTART;VALUE=DATE:20240212
DTEND;VALUE=DATE:20240217
DTSTAMP:20260421T065943
CREATED:20230925T114752Z
LAST-MODIFIED:20230925T114752Z
UID:2644-1707696000-1708127999@www.orthopaedics.or.at
SUMMARY:AAOS 2024 Annual Meeting
DESCRIPTION:Programm und Anmeldung ab 18. Oktober 2023 verfügbar.
URL:https://www.orthopaedics.or.at/event/aaos-2024-annual-meeting/
LOCATION:San Francisco\, San Francisco\, USA
END:VEVENT
BEGIN:VEVENT
DTSTART;TZID=Europe/Vienna:20240214T190000
DTEND;TZID=Europe/Vienna:20240214T200000
DTSTAMP:20260421T065943
CREATED:20240125T103627Z
LAST-MODIFIED:20240125T103627Z
UID:2878-1707937200-1707940800@www.orthopaedics.or.at
SUMMARY:Infoveranstaltung zum Masterstudium Orthopädie und Traumatologie\, MSc (CE)
DESCRIPTION:>> Flyer \n>> Informationen zum Studium \n>> Anmeldung
URL:https://www.orthopaedics.or.at/event/infoveranstaltung-zum-masterstudium-orthopaedie-und-traumatologie-msc-ce/
LOCATION:Online\, Österreich
END:VEVENT
BEGIN:VEVENT
DTSTART;VALUE=DATE:20240216
DTEND;VALUE=DATE:20240225
DTSTAMP:20260421T065943
CREATED:20230925T115335Z
LAST-MODIFIED:20230925T115335Z
UID:2647-1708041600-1708819199@www.orthopaedics.or.at
SUMMARY:38th German-Austrian-Swiss Congress of Sports Traumatology & Sports Medicine: Orthopedic aspects in sports
DESCRIPTION:>> Programm \n>> Anmeldung
URL:https://www.orthopaedics.or.at/event/38th-german-austrian-swiss-congress-of-sports-traumatology-sports-medicine-orthopedic-aspects-in-sports/
LOCATION:Olympiakongreßzentrum Seefeld/Tirol\, Klosterstraße 600\, Seefeld\, 6100\, Österreich
END:VEVENT
BEGIN:VEVENT
DTSTART;VALUE=DATE:20240223
DTEND;VALUE=DATE:20240225
DTSTAMP:20260421T065943
CREATED:20240125T133826Z
LAST-MODIFIED:20240125T133826Z
UID:2884-1708646400-1708819199@www.orthopaedics.or.at
SUMMARY:ÖGO-Ausbildungsseminar "Fußchirurgie in der Orthopädie"
DESCRIPTION:>> Programm \n>> Anmeldung
URL:https://www.orthopaedics.or.at/event/oego-ausbildungsseminar-fusschirurgie-in-der-orthopaedie-2/
LOCATION:Orthopädisches Spital Speising\, Speisinger Straße 109\, Wien\, 1130
CATEGORIES:OEGO-Veranstaltungen
ATTACH;FMTTYPE=image/jpeg:https://www.orthopaedics.or.at/wp-content/uploads/2020/04/Logo4c_pfad_termin.jpg
END:VEVENT
END:VCALENDAR