BEGIN:VCALENDAR
VERSION:2.0
PRODID:-//ÖGO - ECPv6.15.18//NONSGML v1.0//EN
CALSCALE:GREGORIAN
METHOD:PUBLISH
X-WR-CALNAME:ÖGO
X-ORIGINAL-URL:https://www.orthopaedics.or.at
X-WR-CALDESC:Veranstaltungen für ÖGO
REFRESH-INTERVAL;VALUE=DURATION:PT1H
X-Robots-Tag:noindex
X-PUBLISHED-TTL:PT1H
BEGIN:VTIMEZONE
TZID:Europe/Vienna
BEGIN:DAYLIGHT
TZOFFSETFROM:+0100
TZOFFSETTO:+0200
TZNAME:CEST
DTSTART:20230326T010000
END:DAYLIGHT
BEGIN:STANDARD
TZOFFSETFROM:+0200
TZOFFSETTO:+0100
TZNAME:CET
DTSTART:20231029T010000
END:STANDARD
BEGIN:DAYLIGHT
TZOFFSETFROM:+0100
TZOFFSETTO:+0200
TZNAME:CEST
DTSTART:20240331T010000
END:DAYLIGHT
BEGIN:STANDARD
TZOFFSETFROM:+0200
TZOFFSETTO:+0100
TZNAME:CET
DTSTART:20241027T010000
END:STANDARD
BEGIN:DAYLIGHT
TZOFFSETFROM:+0100
TZOFFSETTO:+0200
TZNAME:CEST
DTSTART:20250330T010000
END:DAYLIGHT
BEGIN:STANDARD
TZOFFSETFROM:+0200
TZOFFSETTO:+0100
TZNAME:CET
DTSTART:20251026T010000
END:STANDARD
END:VTIMEZONE
BEGIN:VEVENT
DTSTART;VALUE=DATE:20240601
DTEND;VALUE=DATE:20240604
DTSTAMP:20260421T002326
CREATED:20230926T092957Z
LAST-MODIFIED:20230926T092957Z
UID:2682-1717200000-1717459199@www.orthopaedics.or.at
SUMMARY:13th Annual International Congress of Arthroplasty Registries – ISAR 2024
DESCRIPTION:
URL:https://www.orthopaedics.or.at/event/13th-annual-international-congress-of-arthroplasty-registries-isar-2024/
LOCATION:Radisson Blu Hotel Hamburg\, Congressplatz 2\, Hamburg\, 20355\, Deutschland
END:VEVENT
BEGIN:VEVENT
DTSTART;VALUE=DATE:20240605
DTEND;VALUE=DATE:20240608
DTSTAMP:20260421T002326
CREATED:20230926T093423Z
LAST-MODIFIED:20230926T093423Z
UID:2686-1717545600-1717804799@www.orthopaedics.or.at
SUMMARY:39th CSRS-Europe Annual Meeting Vienna 2024
DESCRIPTION:>> Programm \n>> Anmeldung
URL:https://www.orthopaedics.or.at/event/39th-csrs-europe-annual-meeting-vienna-2024/
LOCATION:Austria Trend Parkhotel Schönbrunn\, Hietzinger Hauptstraße 10–14\, Wien\, 1130\, Österreich
END:VEVENT
BEGIN:VEVENT
DTSTART;VALUE=DATE:20240605
DTEND;VALUE=DATE:20240609
DTSTAMP:20260421T002326
CREATED:20240408T112535Z
LAST-MODIFIED:20240408T112535Z
UID:2981-1717545600-1717891199@www.orthopaedics.or.at
SUMMARY:37. Jahrestagung der Deutschsprachigen Medizinischen Gesellschaft für Paraplegiologie e.V.
DESCRIPTION:>> Programm \n>> Anmeldung
URL:https://www.orthopaedics.or.at/event/37-jahrestagung-der-deutschsprachigen-medizinischen-gesellschaft-fuer-paraplegiologie-e-v/
LOCATION:congress centrum weimarhalle\, Unesco-Platz 1\, Weimar\, 99423\, Deutschland
END:VEVENT
BEGIN:VEVENT
DTSTART;VALUE=DATE:20240606
DTEND;VALUE=DATE:20240609
DTSTAMP:20260421T002326
CREATED:20240119T114906Z
LAST-MODIFIED:20240119T114906Z
UID:2866-1717632000-1717891199@www.orthopaedics.or.at
SUMMARY:30. Kongress der Österreichischen Schmerzgesellschaft
DESCRIPTION:Thema: „Als Team gegen den Schmerz: Gender Pain – geschlechtsspezifische Unterschiede“ \n>> Programm \n>> Anmeldung
URL:https://www.orthopaedics.or.at/event/30-kongress-der-oesterreichischen-schmerzgesellschaft/
LOCATION:Congress Center Villach\, Europaplatz 1-2\, Villach\, 9500
END:VEVENT
BEGIN:VEVENT
DTSTART;VALUE=DATE:20240606
DTEND;VALUE=DATE:20240607
DTSTAMP:20260421T002326
CREATED:20240418T085344Z
LAST-MODIFIED:20240419T082057Z
UID:2988-1717632000-1717718399@www.orthopaedics.or.at
SUMMARY:Basics Hands-On-Kurs: Ultraschallgezielte Infiltrationen - Wirbelsäule und große Gelenke
DESCRIPTION:>> Programm \n>> Anmeldung per E-Mail an katharina.gernesch@oss.at
URL:https://www.orthopaedics.or.at/event/basics-hands-on-kurs-ultraschallgezielte-infiltrationen-wirbelsaeule-und-grosse-gelenke/
LOCATION:Orthopädisches Spital Speising\, Speisinger Straße 109\, Wien\, 1130
END:VEVENT
BEGIN:VEVENT
DTSTART;VALUE=DATE:20240609
DTEND;VALUE=DATE:20240612
DTSTAMP:20260421T002326
CREATED:20230926T105724Z
LAST-MODIFIED:20230926T105724Z
UID:2689-1717891200-1718150399@www.orthopaedics.or.at
SUMMARY:31st EULAR Sonography Course | MSUS 2024
DESCRIPTION:The EULAR Sonography Course will be run simultaneously at three levels\, basic\, intermediate and advanced. \n>> weitere Informationen
URL:https://www.orthopaedics.or.at/event/31st-eular-sonography-course-msus-2024/
LOCATION:Wien
END:VEVENT
BEGIN:VEVENT
DTSTART;VALUE=DATE:20240614
DTEND;VALUE=DATE:20240616
DTSTAMP:20260421T002326
CREATED:20240117T113533Z
LAST-MODIFIED:20240216T145505Z
UID:2860-1718323200-1718495999@www.orthopaedics.or.at
SUMMARY:AE-MASTERKURS Gelenkerhaltende Hüftchirurgie mit anatomischen Präparaten
DESCRIPTION:>> Programm \n>> Anmeldung
URL:https://www.orthopaedics.or.at/event/ae-masterkurs-gelenkerhaltende-hueftchirurgie/
LOCATION:Orthopädisches Spital Speising\, Speisinger Straße 109\, Wien\, 1130
END:VEVENT
BEGIN:VEVENT
DTSTART;VALUE=DATE:20240621
DTEND;VALUE=DATE:20240622
DTSTAMP:20260421T002326
CREATED:20240527T073418Z
LAST-MODIFIED:20240604T091710Z
UID:3029-1718928000-1719014399@www.orthopaedics.or.at
SUMMARY:ÖGO-Ausbildungsseminar Tumororthopädie
DESCRIPTION:>> Programm \n>> Anmeldung
URL:https://www.orthopaedics.or.at/event/oego-ausbildungsseminar-tumororthopaedie-3/
LOCATION:AKH Wien\, Währinger Gürtel 18-20\, Wien\, 1090
CATEGORIES:OEGO-Veranstaltungen
ATTACH;FMTTYPE=image/jpeg:https://www.orthopaedics.or.at/wp-content/uploads/2020/04/Logo4c_pfad_termin.jpg
END:VEVENT
BEGIN:VEVENT
DTSTART;VALUE=DATE:20240626
DTEND;VALUE=DATE:20240629
DTSTAMP:20260421T002326
CREATED:20231106T084848Z
LAST-MODIFIED:20231106T085525Z
UID:2786-1719360000-1719619199@www.orthopaedics.or.at
SUMMARY:3. Österreichischer Kongress für Orthopädie & Traumatologie
DESCRIPTION:„Orthopädie und Traumatologie\, Garanten für Lebensqualität“
URL:https://www.orthopaedics.or.at/event/3-oesterreichischer-kongress-fuer-orthopaedie-traumatologie/
LOCATION:Design Center Linz\, Europaplatz 1\, Linz\, 4020
CATEGORIES:OEGO-Veranstaltungen
ATTACH;FMTTYPE=image/jpeg:https://www.orthopaedics.or.at/wp-content/uploads/2020/04/Logo4c_pfad_termin.jpg
END:VEVENT
BEGIN:VEVENT
DTSTART;VALUE=DATE:20240627
DTEND;VALUE=DATE:20240629
DTSTAMP:20260421T002326
CREATED:20230926T110019Z
LAST-MODIFIED:20240405T142614Z
UID:2691-1719446400-1719619199@www.orthopaedics.or.at
SUMMARY:EPOS Advanced Course – DDH and Hip Ultrasound
DESCRIPTION:>> Programm \n>> Anmeldung
URL:https://www.orthopaedics.or.at/event/epos-advanced-course-ddh-and-hip-ultrasound/
LOCATION:Orthopädisches Spital Speising\, Speisinger Straße 109\, Wien\, 1130
END:VEVENT
END:VCALENDAR