BEGIN:VCALENDAR
VERSION:2.0
PRODID:-//ÖGO - ECPv6.15.18//NONSGML v1.0//EN
CALSCALE:GREGORIAN
METHOD:PUBLISH
X-WR-CALNAME:ÖGO
X-ORIGINAL-URL:https://www.orthopaedics.or.at
X-WR-CALDESC:Veranstaltungen für ÖGO
REFRESH-INTERVAL;VALUE=DURATION:PT1H
X-Robots-Tag:noindex
X-PUBLISHED-TTL:PT1H
BEGIN:VTIMEZONE
TZID:Europe/Vienna
BEGIN:DAYLIGHT
TZOFFSETFROM:+0100
TZOFFSETTO:+0200
TZNAME:CEST
DTSTART:20230326T010000
END:DAYLIGHT
BEGIN:STANDARD
TZOFFSETFROM:+0200
TZOFFSETTO:+0100
TZNAME:CET
DTSTART:20231029T010000
END:STANDARD
BEGIN:DAYLIGHT
TZOFFSETFROM:+0100
TZOFFSETTO:+0200
TZNAME:CEST
DTSTART:20240331T010000
END:DAYLIGHT
BEGIN:STANDARD
TZOFFSETFROM:+0200
TZOFFSETTO:+0100
TZNAME:CET
DTSTART:20241027T010000
END:STANDARD
BEGIN:DAYLIGHT
TZOFFSETFROM:+0100
TZOFFSETTO:+0200
TZNAME:CEST
DTSTART:20250330T010000
END:DAYLIGHT
BEGIN:STANDARD
TZOFFSETFROM:+0200
TZOFFSETTO:+0100
TZNAME:CET
DTSTART:20251026T010000
END:STANDARD
END:VTIMEZONE
BEGIN:VEVENT
DTSTART;VALUE=DATE:20241108
DTEND;VALUE=DATE:20241110
DTSTAMP:20260420T192257
CREATED:20241003T100327Z
LAST-MODIFIED:20241003T100327Z
UID:3112-1731024000-1731196799@www.orthopaedics.or.at
SUMMARY:Kongress "Update Sportmedizin"
DESCRIPTION:Gemeinsame Veranstaltung mit GOTS (Deutsch-Österreichisch-Schweizer Gesellschaft für Orthopädisch-Traumatologische Sportmedizin) und ÖGSMP (Österreichischen Gesellschaft für Sportmedizin und Prävention) \n>> Programm \n>> Anmeldung
URL:https://www.orthopaedics.or.at/event/kongress-update-sportmedizin-2/
LOCATION:Universität für Weiterbildung Krems\, Audimax\, Dr.-Karl-Dorrek-Straße 30\, Krems\, 3500
END:VEVENT
BEGIN:VEVENT
DTSTART;VALUE=DATE:20241116
DTEND;VALUE=DATE:20241117
DTSTAMP:20260420T192257
CREATED:20240926T075352Z
LAST-MODIFIED:20240926T075627Z
UID:3110-1731715200-1731801599@www.orthopaedics.or.at
SUMMARY:BVdO Jahrestagung 2024
DESCRIPTION:>> Programm \n>> Anmeldung
URL:https://www.orthopaedics.or.at/event/bvdo-jahrestagung-2024/
LOCATION:Haus der Ingenieure\, Eschenbachgasse 9 / 1. Stock\, Wien\, 1010
CATEGORIES:OEGO-Veranstaltungen
ATTACH;FMTTYPE=image/jpeg:https://www.orthopaedics.or.at/wp-content/uploads/2020/04/Logo4c_pfad_termin.jpg
END:VEVENT
BEGIN:VEVENT
DTSTART;TZID=Europe/Vienna:20241123T090000
DTEND;TZID=Europe/Vienna:20241123T170000
DTSTAMP:20260420T192257
CREATED:20241014T081232Z
LAST-MODIFIED:20241014T081232Z
UID:3123-1732352400-1732381200@www.orthopaedics.or.at
SUMMARY:75. WPK Akademie „Orthopädie im Fokus“
DESCRIPTION:>> Programm \n>> Anmeldung
URL:https://www.orthopaedics.or.at/event/75-wpk-akademie-orthopaedie-im-fokus/
LOCATION:Billrothhaus\, Frankgasse 8\, Wien\, 1090\, Austria
END:VEVENT
BEGIN:VEVENT
DTSTART;VALUE=DATE:20241128
DTEND;VALUE=DATE:20241201
DTSTAMP:20260420T192257
CREATED:20221220T141034Z
LAST-MODIFIED:20240408T110649Z
UID:2431-1732752000-1733011199@www.orthopaedics.or.at
SUMMARY:15. Symposium für Neuroorthopädie & Rehabilitation 2024
DESCRIPTION:
URL:https://www.orthopaedics.or.at/event/15-symposium-fuer-neuroorthopaedie-rehabilitation-2024/
LOCATION:Universität für Weiterbildung Krems\, Audimax\, Dr.-Karl-Dorrek-Straße 30\, Krems\, 3500
END:VEVENT
BEGIN:VEVENT
DTSTART;TZID=Europe/Vienna:20241129T130000
DTEND;TZID=Europe/Vienna:20241129T180000
DTSTAMP:20260420T192257
CREATED:20241104T075638Z
LAST-MODIFIED:20241104T075638Z
UID:3141-1732885200-1732903200@www.orthopaedics.or.at
SUMMARY:ÖGF Wintertagung 2024 – „Hallux valgus“
DESCRIPTION:>> Programm \n>> Anmeldung
URL:https://www.orthopaedics.or.at/event/oegf-wintertagung-2024-hallux-valgus/
LOCATION:Tagungszentrum Schönbrunn Apothekertrakt\, Schönbrunner Schloßstraße 47\, Wien\, 1130\, Österreich
END:VEVENT
END:VCALENDAR