BEGIN:VCALENDAR
VERSION:2.0
PRODID:-//ÖGO - ECPv6.15.18//NONSGML v1.0//EN
CALSCALE:GREGORIAN
METHOD:PUBLISH
X-ORIGINAL-URL:https://www.orthopaedics.or.at
X-WR-CALDESC:Veranstaltungen für ÖGO
REFRESH-INTERVAL;VALUE=DURATION:PT1H
X-Robots-Tag:noindex
X-PUBLISHED-TTL:PT1H
BEGIN:VTIMEZONE
TZID:Europe/Vienna
BEGIN:DAYLIGHT
TZOFFSETFROM:+0100
TZOFFSETTO:+0200
TZNAME:CEST
DTSTART:20240331T010000
END:DAYLIGHT
BEGIN:STANDARD
TZOFFSETFROM:+0200
TZOFFSETTO:+0100
TZNAME:CET
DTSTART:20241027T010000
END:STANDARD
BEGIN:DAYLIGHT
TZOFFSETFROM:+0100
TZOFFSETTO:+0200
TZNAME:CEST
DTSTART:20250330T010000
END:DAYLIGHT
BEGIN:STANDARD
TZOFFSETFROM:+0200
TZOFFSETTO:+0100
TZNAME:CET
DTSTART:20251026T010000
END:STANDARD
BEGIN:DAYLIGHT
TZOFFSETFROM:+0100
TZOFFSETTO:+0200
TZNAME:CEST
DTSTART:20260329T010000
END:DAYLIGHT
BEGIN:STANDARD
TZOFFSETFROM:+0200
TZOFFSETTO:+0100
TZNAME:CET
DTSTART:20261025T010000
END:STANDARD
END:VTIMEZONE
BEGIN:VEVENT
DTSTART;VALUE=DATE:20251105
DTEND;VALUE=DATE:20251109
DTSTAMP:20260420T185756
CREATED:20250423T075429Z
LAST-MODIFIED:20250423T075453Z
UID:3278-1762300800-1762646399@www.orthopaedics.or.at
SUMMARY:SPOT 2025 - 44th Annual Meeting of the Portuguese Society of Orthopaedics andTraumatology
DESCRIPTION:
URL:https://www.orthopaedics.or.at/event/spot-2025-44th-annual-meeting-of-the-portuguese-society-of-orthopaedics-andtraumatology/
LOCATION:Vilamoura\, Portugal
END:VEVENT
BEGIN:VEVENT
DTSTART;VALUE=DATE:20251106
DTEND;VALUE=DATE:20251109
DTSTAMP:20260420T185756
CREATED:20250318T082647Z
LAST-MODIFIED:20250318T082647Z
UID:3257-1762387200-1762646399@www.orthopaedics.or.at
SUMMARY:108th National Congress - SIOT 2025
DESCRIPTION:nähere Informationen >> download
URL:https://www.orthopaedics.or.at/event/108th-national-congress-siot-2025/
LOCATION:Centro Congressi Rome Cavalieri Waldorf Astoria\, Via Alberto Cadlolo\, 101\, Roma\, 00136\, Italy
END:VEVENT
BEGIN:VEVENT
DTSTART;VALUE=DATE:20251107
DTEND;VALUE=DATE:20251111
DTSTAMP:20260420T185756
CREATED:20241202T115831Z
LAST-MODIFIED:20241202T115831Z
UID:3222-1762473600-1762819199@www.orthopaedics.or.at
SUMMARY:AAHKS Annual Meeting American Association of Hip and Knee Surgeons
DESCRIPTION:>> Programm \n>> Anmeldung
URL:https://www.orthopaedics.or.at/event/aahks-annual-meeting-american-association-of-hip-and-knee-surgeons/
LOCATION:Gaylord Texan Resort & Convention Center\, 1501 Gaylord Trail\, Grapevine\, 76051\, United States
END:VEVENT
BEGIN:VEVENT
DTSTART;VALUE=DATE:20251107
DTEND;VALUE=DATE:20251109
DTSTAMP:20260420T185756
CREATED:20250624T075445Z
LAST-MODIFIED:20250624T075445Z
UID:3334-1762473600-1762646399@www.orthopaedics.or.at
SUMMARY:OP Forum Alpbach
DESCRIPTION:>> Programm \n>> Anmeldung
URL:https://www.orthopaedics.or.at/event/op-forum-alpbach/
LOCATION:Congress Centrum Alpbach\, Alpbach 246\, Alpbach\, 6236\, Austria
END:VEVENT
BEGIN:VEVENT
DTSTART;VALUE=DATE:20251112
DTEND;VALUE=DATE:20251115
DTSTAMP:20260420T185756
CREATED:20241202T120543Z
LAST-MODIFIED:20241202T120543Z
UID:3229-1762905600-1763164799@www.orthopaedics.or.at
SUMMARY:Barcelona International Arthro Shoulder Surgeries
DESCRIPTION:
URL:https://www.orthopaedics.or.at/event/barcelona-international-arthro-shoulder-surgeries/
LOCATION:Barcelona International Convention Centre (CCIB)\, Plaça de Willy Brandt\, 11-14\, Barcelona\, 08019\, Spanien
END:VEVENT
BEGIN:VEVENT
DTSTART;VALUE=DATE:20251127
DTEND;VALUE=DATE:20251129
DTSTAMP:20260420T185756
CREATED:20241202T120049Z
LAST-MODIFIED:20241202T120049Z
UID:3226-1764201600-1764374399@www.orthopaedics.or.at
SUMMARY:EFAS Open soft tissue lesions
DESCRIPTION:Contact: charlotte.martin@mcocongres.com
URL:https://www.orthopaedics.or.at/event/efas-open-soft-tissue-lesions/
LOCATION:Krakau\, Poland
END:VEVENT
END:VCALENDAR